BEGIN:VCALENDAR
VERSION:2.0
PRODID:-//IFBB Pro - ECPv6.15.20//NONSGML v1.0//EN
CALSCALE:GREGORIAN
METHOD:PUBLISH
X-WR-CALNAME:IFBB Pro
X-ORIGINAL-URL:https://www.ifbbpro.com
X-WR-CALDESC:Events for IFBB Pro
REFRESH-INTERVAL;VALUE=DURATION:PT1H
X-Robots-Tag:noindex
X-PUBLISHED-TTL:PT1H
BEGIN:VTIMEZONE
TZID:America/Toronto
BEGIN:DAYLIGHT
TZOFFSETFROM:-0500
TZOFFSETTO:-0400
TZNAME:EDT
DTSTART:20240310T070000
END:DAYLIGHT
BEGIN:STANDARD
TZOFFSETFROM:-0400
TZOFFSETTO:-0500
TZNAME:EST
DTSTART:20241103T060000
END:STANDARD
BEGIN:DAYLIGHT
TZOFFSETFROM:-0500
TZOFFSETTO:-0400
TZNAME:EDT
DTSTART:20250309T070000
END:DAYLIGHT
BEGIN:STANDARD
TZOFFSETFROM:-0400
TZOFFSETTO:-0500
TZNAME:EST
DTSTART:20251102T060000
END:STANDARD
BEGIN:DAYLIGHT
TZOFFSETFROM:-0500
TZOFFSETTO:-0400
TZNAME:EDT
DTSTART:20260308T070000
END:DAYLIGHT
BEGIN:STANDARD
TZOFFSETFROM:-0400
TZOFFSETTO:-0500
TZNAME:EST
DTSTART:20261101T060000
END:STANDARD
END:VTIMEZONE
BEGIN:VEVENT
DTSTART;VALUE=DATE:20250920
DTEND;VALUE=DATE:20250921
DTSTAMP:20260422T035151
CREATED:20241225T180225Z
LAST-MODIFIED:20241225T180225Z
UID:16323-1758326400-1758412799@www.ifbbpro.com
SUMMARY:2025 Huanji China Pro Qualifier
DESCRIPTION:
URL:https://www.ifbbpro.com/competition/2025-huanji-china-pro-qualifier-2/
LOCATION:Xi’an\, Xi'an\, China
CATEGORIES:NPC Worldwide Pro Qualifier
ATTACH;FMTTYPE=image/jpeg:https://www.ifbbpro.com/wp-content/uploads/2024/12/2025huanjiPQ_092025.jpg
ORGANIZER;CN="George Zhang":MAILTO:huanjichinapro@163.com
END:VEVENT
BEGIN:VEVENT
DTSTART;VALUE=DATE:20250919
DTEND;VALUE=DATE:20250922
DTSTAMP:20260422T035151
CREATED:20250614T161123Z
LAST-MODIFIED:20250921T233043Z
UID:19549-1758240000-1758499199@www.ifbbpro.com
SUMMARY:2025 Dominican Republic Pro
DESCRIPTION:
URL:https://www.ifbbpro.com/competition/2025-dominican-republic-pro/
LOCATION:Santo Domingo\, Santo Domingo\, Dominican Republic
CATEGORIES:IFBB Pro League PRO
ATTACH;FMTTYPE=image/jpeg:https://www.ifbbpro.com/wp-content/uploads/2025/06/2025domrepPRO_091925.jpg
ORGANIZER;CN="Maz Ali | Tamer El Guindy":MAILTO:bodyworx2008@hotmail.com
END:VEVENT
END:VCALENDAR