BEGIN:VCALENDAR
VERSION:2.0
PRODID:-//IFBB Pro - ECPv6.15.20//NONSGML v1.0//EN
CALSCALE:GREGORIAN
METHOD:PUBLISH
X-WR-CALNAME:IFBB Pro
X-ORIGINAL-URL:https://www.ifbbpro.com
X-WR-CALDESC:Events for IFBB Pro
REFRESH-INTERVAL;VALUE=DURATION:PT1H
X-Robots-Tag:noindex
X-PUBLISHED-TTL:PT1H
BEGIN:VTIMEZONE
TZID:America/Toronto
BEGIN:DAYLIGHT
TZOFFSETFROM:-0500
TZOFFSETTO:-0400
TZNAME:EDT
DTSTART:20240310T070000
END:DAYLIGHT
BEGIN:STANDARD
TZOFFSETFROM:-0400
TZOFFSETTO:-0500
TZNAME:EST
DTSTART:20241103T060000
END:STANDARD
BEGIN:DAYLIGHT
TZOFFSETFROM:-0500
TZOFFSETTO:-0400
TZNAME:EDT
DTSTART:20250309T070000
END:DAYLIGHT
BEGIN:STANDARD
TZOFFSETFROM:-0400
TZOFFSETTO:-0500
TZNAME:EST
DTSTART:20251102T060000
END:STANDARD
BEGIN:DAYLIGHT
TZOFFSETFROM:-0500
TZOFFSETTO:-0400
TZNAME:EDT
DTSTART:20260308T070000
END:DAYLIGHT
BEGIN:STANDARD
TZOFFSETFROM:-0400
TZOFFSETTO:-0500
TZNAME:EST
DTSTART:20261101T060000
END:STANDARD
END:VTIMEZONE
BEGIN:VEVENT
DTSTART;VALUE=DATE:20251004
DTEND;VALUE=DATE:20251006
DTSTAMP:20260419T211922
CREATED:20250716T202132Z
LAST-MODIFIED:20250716T202132Z
UID:19804-1759536000-1759708799@www.ifbbpro.com
SUMMARY:2025 Grand Prix Poland Regional
DESCRIPTION:
URL:https://www.ifbbpro.com/competition/2025-grand-prix-poland-regional/
LOCATION:Warsaw\, Warsaw\, Poland
CATEGORIES:NPC Worldwide Regional
ATTACH;FMTTYPE=image/jpeg:https://www.ifbbpro.com/wp-content/uploads/2025/07/2025polandR_100425.jpg
ORGANIZER;CN="Robert Piotrkowicz":MAILTO:office@ifbbpro.pl
END:VEVENT
BEGIN:VEVENT
DTSTART;VALUE=DATE:20251004
DTEND;VALUE=DATE:20251006
DTSTAMP:20260419T211922
CREATED:20250716T201750Z
LAST-MODIFIED:20250716T201750Z
UID:19801-1759536000-1759708799@www.ifbbpro.com
SUMMARY:2025 AMIX Classic Spain Regional
DESCRIPTION:
URL:https://www.ifbbpro.com/competition/2025-amix-classic-spain-regional/
LOCATION:Valencia\, Valencia\, Spain
CATEGORIES:NPC Worldwide Regional
ATTACH;FMTTYPE=image/jpeg:https://www.ifbbpro.com/wp-content/uploads/2025/07/2025spainR_100425.jpg
ORGANIZER;CN="Pablo Martinez":MAILTO:pablomartinez@ifbbprovalencia.com
END:VEVENT
BEGIN:VEVENT
DTSTART;VALUE=DATE:20251004
DTEND;VALUE=DATE:20251006
DTSTAMP:20260419T211922
CREATED:20250112T225341Z
LAST-MODIFIED:20250112T225341Z
UID:17277-1759536000-1759708799@www.ifbbpro.com
SUMMARY:2025 Olympia Amateur Italy Pro Qualifier
DESCRIPTION:
URL:https://www.ifbbpro.com/competition/2025-olympia-amateur-italy-pro-qualifier/
LOCATION:Milan\, Milan\, Italy
CATEGORIES:NPC Worldwide Pro Qualifier
ATTACH;FMTTYPE=image/jpeg:https://www.ifbbpro.com/wp-content/uploads/2025/01/2025italyPQ_100425.jpg
ORGANIZER;CN="Barbara Bagnuolo":MAILTO:bb.ifbbproitaly@gmail.com
END:VEVENT
BEGIN:VEVENT
DTSTART;VALUE=DATE:20251004
DTEND;VALUE=DATE:20251005
DTSTAMP:20260419T211922
CREATED:20250820T193523Z
LAST-MODIFIED:20250820T193523Z
UID:20316-1759536000-1759622399@www.ifbbpro.com
SUMMARY:2025 Iraq Muscle Show Pro Qualifier
DESCRIPTION:
URL:https://www.ifbbpro.com/competition/2025-iraq-muscle-show-pro-qualifier/
LOCATION:Duhok\, Duhok\, Iraq
CATEGORIES:NPC Worldwide Pro Qualifier
ATTACH;FMTTYPE=image/jpeg:https://www.ifbbpro.com/wp-content/uploads/2025/08/2025iraqPRO_100425.jpg
ORGANIZER;CN="Mo Barakat & Khalid Al Mehsanawi":MAILTO:mobarakat1026@gmail.com
END:VEVENT
BEGIN:VEVENT
DTSTART;VALUE=DATE:20251004
DTEND;VALUE=DATE:20251005
DTSTAMP:20260419T211922
CREATED:20250820T193339Z
LAST-MODIFIED:20251004T212800Z
UID:20312-1759536000-1759622399@www.ifbbpro.com
SUMMARY:2025 Iraq Muscle Show
DESCRIPTION:Open Men’s Classic Physique
URL:https://www.ifbbpro.com/competition/2025-iraq-muscle-show/
LOCATION:Duhok\, Duhok\, Iraq
CATEGORIES:IFBB Pro League PRO
ATTACH;FMTTYPE=image/jpeg:https://www.ifbbpro.com/wp-content/uploads/2025/08/2025iraqPRO_100425.jpg
ORGANIZER;CN="Mo Barakat & Khalid Al Mehsanawi":MAILTO:mobarakat1026@gmail.com
END:VEVENT
BEGIN:VEVENT
DTSTART;VALUE=DATE:20251004
DTEND;VALUE=DATE:20251005
DTSTAMP:20260419T211922
CREATED:20250625T155009Z
LAST-MODIFIED:20250625T190233Z
UID:19651-1759536000-1759622399@www.ifbbpro.com
SUMMARY:2025 ZNT Int. South German Cup Regional
DESCRIPTION:
URL:https://www.ifbbpro.com/competition/2025-znt-int-south-german-cup-regional/
LOCATION:Erlangen\, Erlangen\, Germany
CATEGORIES:NPC Worldwide Regional
ATTACH;FMTTYPE=image/jpeg:https://www.ifbbpro.com/wp-content/uploads/2025/06/2025germanyr_100425.jpg
ORGANIZER;CN="Dennis James (South German Cup)":MAILTO:npcworldwidegermany@gmail.com
END:VEVENT
BEGIN:VEVENT
DTSTART;VALUE=DATE:20251004
DTEND;VALUE=DATE:20251005
DTSTAMP:20260419T211922
CREATED:20250507T120306Z
LAST-MODIFIED:20250507T164046Z
UID:19046-1759536000-1759622399@www.ifbbpro.com
SUMMARY:2025 Ironbeasts Powerexpo Naturals Portugal Regional
DESCRIPTION:
URL:https://www.ifbbpro.com/competition/2025-ironbeasts-powerexpo-naturals-portugal-regional/
LOCATION:Maia\, Maia\, Portugal
CATEGORIES:NPC Worldwide Regional
ATTACH;FMTTYPE=image/jpeg:https://www.ifbbpro.com/wp-content/uploads/2025/05/2025portugalNATR_100425.jpg
ORGANIZER;CN="Mr. Big Evolution":MAILTO:ifbbproportugal@gmail.com
END:VEVENT
BEGIN:VEVENT
DTSTART;VALUE=DATE:20251004
DTEND;VALUE=DATE:20251005
DTSTAMP:20260419T211922
CREATED:20250405T142302Z
LAST-MODIFIED:20250405T142302Z
UID:18755-1759536000-1759622399@www.ifbbpro.com
SUMMARY:2025 EU Nutrition Classic Regional
DESCRIPTION:
URL:https://www.ifbbpro.com/competition/2025-eu-nutrition-classic-regional/
LOCATION:Maia\, Maia\, Portugal
CATEGORIES:NPC Worldwide Regional
ATTACH;FMTTYPE=image/jpeg:https://www.ifbbpro.com/wp-content/uploads/2025/04/2025portugalR_100425.jpg
ORGANIZER;CN="Mr. Big Evolution":MAILTO:ifbbproportugal@gmail.com
END:VEVENT
BEGIN:VEVENT
DTSTART;VALUE=DATE:20251004
DTEND;VALUE=DATE:20251005
DTSTAMP:20260419T211922
CREATED:20250328T154041Z
LAST-MODIFIED:20251004T233302Z
UID:18593-1759536000-1759622399@www.ifbbpro.com
SUMMARY:2025 Ace of Stage Pro
DESCRIPTION:Open Men’s Physique + Masters 40/45/50
URL:https://www.ifbbpro.com/competition/2025-ace-of-stage-pro/
LOCATION:Las Vegas\, Las Vegas\, NV\, United States
CATEGORIES:IFBB Pro League PRO
ATTACH;FMTTYPE=image/jpeg:https://www.ifbbpro.com/wp-content/uploads/2025/03/2025aceofstagePRO_100425.jpg
END:VEVENT
BEGIN:VEVENT
DTSTART;VALUE=DATE:20251004
DTEND;VALUE=DATE:20251005
DTSTAMP:20260419T211922
CREATED:20250110T173235Z
LAST-MODIFIED:20250110T173235Z
UID:17153-1759536000-1759622399@www.ifbbpro.com
SUMMARY:2025 Canadian National Pro Qualifier
DESCRIPTION:
URL:https://www.ifbbpro.com/competition/2025-canadian-national-pro-qualifier/
LOCATION:Toronto\, Toronto\, Ontario\, Canada
CATEGORIES:NPC Worldwide Pro Qualifier
ATTACH;FMTTYPE=image/jpeg:https://www.ifbbpro.com/wp-content/uploads/2025/01/2025canadaPQ_100425.jpg
ORGANIZER;CN="Ron Hache (Canadian Nationals)":MAILTO:ronhache@unitz.ca
END:VEVENT
BEGIN:VEVENT
DTSTART;VALUE=DATE:20251004
DTEND;VALUE=DATE:20251005
DTSTAMP:20260419T211922
CREATED:20250103T121411Z
LAST-MODIFIED:20251004T233737Z
UID:16760-1759536000-1759622399@www.ifbbpro.com
SUMMARY:2025 Southern Muscle Showdown Pro
DESCRIPTION:Open Men’s Classic Physique + Masters 40/50\nOpen Women’s Bikini + Masters 40/50/60
URL:https://www.ifbbpro.com/competition/2025-southern-muscle-showdown-pro/
LOCATION:Dalton\, Dalton\, GA\, United States
CATEGORIES:IFBB Pro League PRO
ATTACH;FMTTYPE=image/jpeg:https://www.ifbbpro.com/wp-content/uploads/2025/01/2025southernmusclePRO_100425.jpg
ORGANIZER;CN="Steve Payne":MAILTO:steve@trainwithpayne.com
END:VEVENT
BEGIN:VEVENT
DTSTART;VALUE=DATE:20251004
DTEND;VALUE=DATE:20251005
DTSTAMP:20260419T211922
CREATED:20241219T122557Z
LAST-MODIFIED:20251004T151616Z
UID:16131-1759536000-1759622399@www.ifbbpro.com
SUMMARY:2025 AGP Korea Natural Pro Show
DESCRIPTION:Natural Men’s Bodybuilding\nNatural Men’s Classic Physique\nNatural Men’s Physique\nNatural Women’s Bikini
URL:https://www.ifbbpro.com/competition/2025-agp-natural-pro-show-2/
LOCATION:Gyeonggi\, Gyeonggi State\, Korea\, Republic of
CATEGORIES:IFBB Pro League PRO
ATTACH;FMTTYPE=image/jpeg:https://www.ifbbpro.com/wp-content/uploads/2024/12/2025koreaNATPRO_100425.jpg
ORGANIZER;CN="Alex Hong (PQ 052326)":MAILTO:info@ifbbprokorea.com
END:VEVENT
BEGIN:VEVENT
DTSTART;VALUE=DATE:20250928
DTEND;VALUE=DATE:20250929
DTSTAMP:20260419T211922
CREATED:20250425T155907Z
LAST-MODIFIED:20250929T011035Z
UID:18943-1759017600-1759103999@www.ifbbpro.com
SUMMARY:2025 Van City Showdown Natural Pro
DESCRIPTION:Natural Men’s Classic Physique\nNatural Women’s Figure\nNatural Women’s Physique\nNatural Women’s Wellness
URL:https://www.ifbbpro.com/competition/2025-van-city-showdown-natural-pro/
LOCATION:Burnaby\, Burnaby\, Canada
CATEGORIES:IFBB Pro League PRO
ATTACH;FMTTYPE=image/jpeg:https://www.ifbbpro.com/wp-content/uploads/2025/04/2025vancityNATPRO_092825.jpg
ORGANIZER;CN="Corey Swiergosz (Van City)":MAILTO:info@influentialsports.com
END:VEVENT
BEGIN:VEVENT
DTSTART;VALUE=DATE:20250928
DTEND;VALUE=DATE:20250929
DTSTAMP:20260419T211922
CREATED:20250130T150254Z
LAST-MODIFIED:20250130T150254Z
UID:17734-1759017600-1759103999@www.ifbbpro.com
SUMMARY:2025 Vahalia Warriors Championship Regional
DESCRIPTION:
URL:https://www.ifbbpro.com/competition/2025-vahalia-warriors-championship-regional/
LOCATION:Sibiu\, Sibiu\, Romania
CATEGORIES:NPC Worldwide Regional
ATTACH;FMTTYPE=image/jpeg:https://www.ifbbpro.com/wp-content/uploads/2025/01/2025romaniaR_092825.jpg
ORGANIZER;CN="Alina Popa (RMF)":MAILTO:alina@wingsofstrength.net
END:VEVENT
BEGIN:VEVENT
DTSTART;VALUE=DATE:20250927
DTEND;VALUE=DATE:20250929
DTSTAMP:20260419T211922
CREATED:20250718T123822Z
LAST-MODIFIED:20250928T145538Z
UID:19809-1758931200-1759103999@www.ifbbpro.com
SUMMARY:2025 World of Monsterzym Korea Natural Pro Show
DESCRIPTION:Natural Men’s Classic Physique\nNatural Men’s Physique\nNatural Women’s Bikini
URL:https://www.ifbbpro.com/competition/2025-world-of-monsterzym-korea-natural-pro-show/
LOCATION:Incheon City\, Incheon City\, Korea\, Republic of
CATEGORIES:IFBB Pro League PRO
ATTACH;FMTTYPE=image/jpeg:https://www.ifbbpro.com/wp-content/uploads/2025/07/2025koreaNATPRO2_092725.jpg
ORGANIZER;CN="Sungyeob Steve Kim":MAILTO:contact@monsterzym.com
END:VEVENT
BEGIN:VEVENT
DTSTART;VALUE=DATE:20250927
DTEND;VALUE=DATE:20250929
DTSTAMP:20260419T211922
CREATED:20250625T154255Z
LAST-MODIFIED:20250625T154255Z
UID:19648-1758931200-1759103999@www.ifbbpro.com
SUMMARY:2025 Australian National Championships Pro Qualifier
DESCRIPTION:
URL:https://www.ifbbpro.com/competition/2025-australian-national-championships-pro-qualifier/
LOCATION:Victoria\, Victoria\, British Colombia\, Canada
CATEGORIES:NPC Worldwide Pro Qualifier
ATTACH;FMTTYPE=image/jpeg:https://www.ifbbpro.com/wp-content/uploads/2025/06/2025australiaPQ_092825.jpg
ORGANIZER;CN="Tony Doherty":MAILTO:tony@ifbbproleague.com.au
END:VEVENT
BEGIN:VEVENT
DTSTART;VALUE=DATE:20250927
DTEND;VALUE=DATE:20250928
DTSTAMP:20260419T211922
CREATED:20250807T192554Z
LAST-MODIFIED:20250927T195322Z
UID:20129-1758931200-1759017599@www.ifbbpro.com
SUMMARY:2025 Battle of West Georgia Natural Pro
DESCRIPTION:
URL:https://www.ifbbpro.com/competition/2025-battle-of-west-georgia-natural-pro/
LOCATION:Carrollton\, Carrollton\, GA\, United States
CATEGORIES:IFBB Pro League NATURAL PRO
ATTACH;FMTTYPE=image/jpeg:https://www.ifbbpro.com/wp-content/uploads/2025/08/2025battleofwestgeorgiaNATPRO_092725.jpg
ORGANIZER;CN="Dylan Allen":MAILTO:battleofwestgeorgia@gmail.com
END:VEVENT
BEGIN:VEVENT
DTSTART;VALUE=DATE:20250927
DTEND;VALUE=DATE:20250928
DTSTAMP:20260419T211922
CREATED:20250718T124509Z
LAST-MODIFIED:20250718T124509Z
UID:19815-1758931200-1759017599@www.ifbbpro.com
SUMMARY:2025 World of Monsterzym Korea Regional
DESCRIPTION:
URL:https://www.ifbbpro.com/competition/2025-world-of-monsterzym-korea-regional/
LOCATION:Incheon City\, Incheon City\, Korea\, Republic of
CATEGORIES:NPC Worldwide Regional
ATTACH;FMTTYPE=image/jpeg:https://www.ifbbpro.com/wp-content/uploads/2025/07/2025koreaNATPRO_092725.jpg
ORGANIZER;CN="Sungyeob Steve Kim":MAILTO:contact@monsterzym.com
END:VEVENT
BEGIN:VEVENT
DTSTART;VALUE=DATE:20250927
DTEND;VALUE=DATE:20250928
DTSTAMP:20260419T211922
CREATED:20250718T124403Z
LAST-MODIFIED:20250718T124404Z
UID:19813-1758931200-1759017599@www.ifbbpro.com
SUMMARY:2025 World of Monsterzym Korea Natural Regional
DESCRIPTION:
URL:https://www.ifbbpro.com/competition/2025-world-of-monsterzym-korea-natural-regional/
LOCATION:Incheon City\, Incheon City\, Korea\, Republic of
CATEGORIES:NPC Worldwide Regional
ATTACH;FMTTYPE=image/jpeg:https://www.ifbbpro.com/wp-content/uploads/2025/07/2025koreaNATPRO_092725.jpg
ORGANIZER;CN="Sungyeob Steve Kim":MAILTO:contact@monsterzym.com
END:VEVENT
BEGIN:VEVENT
DTSTART;VALUE=DATE:20250927
DTEND;VALUE=DATE:20250928
DTSTAMP:20260419T211922
CREATED:20250515T080907Z
LAST-MODIFIED:20250927T234205Z
UID:19185-1758931200-1759017599@www.ifbbpro.com
SUMMARY:2025 Musclecontest Rio Pro
DESCRIPTION:
URL:https://www.ifbbpro.com/competition/2025-musclecontest-rio-pro/
LOCATION:Rio de Janeiro\, Rio de Janeiro\, Brazil
CATEGORIES:IFBB Pro League PRO
ATTACH;FMTTYPE=image/jpeg:https://www.ifbbpro.com/wp-content/uploads/2025/05/2025rioPRO_092725.jpg
ORGANIZER;CN="Tamer El Guindy (International)":MAILTO:tamer@musclecontest.com
END:VEVENT
BEGIN:VEVENT
DTSTART;VALUE=DATE:20250927
DTEND;VALUE=DATE:20250928
DTSTAMP:20260419T211922
CREATED:20250514T120111Z
LAST-MODIFIED:20250927T233715Z
UID:19159-1758931200-1759017599@www.ifbbpro.com
SUMMARY:2025 Tournament of Champions Pro
DESCRIPTION:
URL:https://www.ifbbpro.com/competition/2025-tournament-of-champions-pro/
LOCATION:San Diego\, San Diego\, California
CATEGORIES:IFBB Pro League PRO
ATTACH;FMTTYPE=image/jpeg:https://www.ifbbpro.com/wp-content/uploads/2025/05/2025tocPRO_092725.jpg
ORGANIZER;CN="Tamer El Guindy (USA)":MAILTO:tamer@musclecontest.com
END:VEVENT
BEGIN:VEVENT
DTSTART;VALUE=DATE:20250927
DTEND;VALUE=DATE:20250928
DTSTAMP:20260419T211922
CREATED:20250218T161500Z
LAST-MODIFIED:20250425T181832Z
UID:18103-1758931200-1759017599@www.ifbbpro.com
SUMMARY:2025 Iron Canary Fest Regional
DESCRIPTION:
URL:https://www.ifbbpro.com/competition/2025-iron-canary-fest-regional/
LOCATION:Tenerife\, Tenerife\, Spain
CATEGORIES:NPC Worldwide Regional
ATTACH;FMTTYPE=image/jpeg:https://www.ifbbpro.com/wp-content/uploads/2025/02/2025spainRv2_092725.jpg
ORGANIZER;CN="Emilio Martinez":MAILTO:emilio@emiliomartinez.com
END:VEVENT
BEGIN:VEVENT
DTSTART;VALUE=DATE:20250927
DTEND;VALUE=DATE:20250928
DTSTAMP:20260419T211922
CREATED:20250123T142409Z
LAST-MODIFIED:20250123T142409Z
UID:17581-1758931200-1759017599@www.ifbbpro.com
SUMMARY:2025 Tsunami Nutrition France Pro Qualifier
DESCRIPTION:
URL:https://www.ifbbpro.com/competition/2025-tsunami-nutrition-france-pro-qualifier/
LOCATION:Lille\, Lille\, France
CATEGORIES:NPC Worldwide Pro Qualifier
ATTACH;FMTTYPE=image/jpeg:https://www.ifbbpro.com/wp-content/uploads/2025/01/2025francePRO_092725.jpg
ORGANIZER;CN="APDF France":MAILTO:ronhache@unitz.ca
END:VEVENT
BEGIN:VEVENT
DTSTART;VALUE=DATE:20250927
DTEND;VALUE=DATE:20250928
DTSTAMP:20260419T211922
CREATED:20250123T142203Z
LAST-MODIFIED:20250927T211423Z
UID:17577-1758931200-1759017599@www.ifbbpro.com
SUMMARY:2025 Tsunami Nutrition Showdown France Pro
DESCRIPTION:
URL:https://www.ifbbpro.com/competition/2025-tsunami-nutrition-showdown-france-pro/
LOCATION:Lille\, Lille\, France
CATEGORIES:IFBB Pro League PRO
ATTACH;FMTTYPE=image/jpeg:https://www.ifbbpro.com/wp-content/uploads/2025/01/2025francePRO_092725.jpg
ORGANIZER;CN="APDF France":MAILTO:ronhache@unitz.ca
END:VEVENT
BEGIN:VEVENT
DTSTART;VALUE=DATE:20250927
DTEND;VALUE=DATE:20250928
DTSTAMP:20260419T211922
CREATED:20250123T141250Z
LAST-MODIFIED:20250927T230357Z
UID:17571-1758931200-1759017599@www.ifbbpro.com
SUMMARY:2025 Daytona Pro/Am Championships
DESCRIPTION:Open Men’s Physique and Bikini\n\n\nMasters Classic Physique 40/50/60\n\n\nMasters Men’s Physique 35/40/50/60/70\n\n\nMasters Bikini 40/45/50/60
URL:https://www.ifbbpro.com/competition/2025-daytona-pro-am-championships/
LOCATION:Daytona Beach\, Daytona Beach\, Florida
CATEGORIES:IFBB Pro League PRO
ATTACH;FMTTYPE=image/jpeg:https://www.ifbbpro.com/wp-content/uploads/2025/01/2025daytonaPROv2_092725.jpg
ORGANIZER;CN="Michael Matassa":MAILTO:toobehuge@gmail.com
END:VEVENT
BEGIN:VEVENT
DTSTART;VALUE=DATE:20250921
DTEND;VALUE=DATE:20250922
DTSTAMP:20260419T211922
CREATED:20250709T210015Z
LAST-MODIFIED:20250709T210148Z
UID:19752-1758412800-1758499199@www.ifbbpro.com
SUMMARY:2025 Georgia Pro Qualifier
DESCRIPTION:
URL:https://www.ifbbpro.com/competition/2025-georgia-pro-qualifier/
LOCATION:Tbilisi\, Tbilisi\, Georgia
CATEGORIES:NPC Worldwide Pro Qualifier
ATTACH;FMTTYPE=image/jpeg:https://www.ifbbpro.com/wp-content/uploads/2025/07/2025georgiaPQ_092125.jpg
ORGANIZER;CN="Mo Barakat & Sarkees Karakashian":MAILTO:mobarakat1026@gmail.com
END:VEVENT
BEGIN:VEVENT
DTSTART;VALUE=DATE:20250921
DTEND;VALUE=DATE:20250922
DTSTAMP:20260419T211923
CREATED:20250612T145630Z
LAST-MODIFIED:20250612T145630Z
UID:19528-1758412800-1758499199@www.ifbbpro.com
SUMMARY:2025 GASP Classic Sweden Pro Qualifier
DESCRIPTION:
URL:https://www.ifbbpro.com/competition/2025-gasp-classic-sweden-pro-qualifier/
LOCATION:Sodertalje\, Sodertalje\, Sweden
CATEGORIES:NPC Worldwide Pro Qualifier
ATTACH;FMTTYPE=image/jpeg:https://www.ifbbpro.com/wp-content/uploads/2025/06/2025swedenPQ_092125.jpg
ORGANIZER;CN="Hanne Gaines":MAILTO:hanne.gaines@swedishfitness.se
END:VEVENT
BEGIN:VEVENT
DTSTART;VALUE=DATE:20250921
DTEND;VALUE=DATE:20250922
DTSTAMP:20260419T211923
CREATED:20250304T163304Z
LAST-MODIFIED:20250304T163304Z
UID:18303-1758412800-1758499199@www.ifbbpro.com
SUMMARY:2025 Lithuania Power of the Knight Regional
DESCRIPTION:
URL:https://www.ifbbpro.com/competition/2025-lithuania-power-of-the-knight-regional/
LOCATION:Vilnius\, Vilnius\, Lithuania
CATEGORIES:NPC Worldwide Regional
ATTACH;FMTTYPE=image/jpeg:https://www.ifbbpro.com/wp-content/uploads/2025/03/2025lithuaniaR_092125.jpg
ORGANIZER;CN="Karolis Zilinskas & Maria Ibarra":MAILTO:kulturizmas@yahoo.com
END:VEVENT
BEGIN:VEVENT
DTSTART;VALUE=DATE:20250921
DTEND;VALUE=DATE:20250922
DTSTAMP:20260419T211923
CREATED:20250112T175815Z
LAST-MODIFIED:20250213T144443Z
UID:17236-1758412800-1758499199@www.ifbbpro.com
SUMMARY:2025 Natural Physique Trophy Belgium Regional
DESCRIPTION:
URL:https://www.ifbbpro.com/competition/2025-natural-physique-trophy-belgium-regional/
LOCATION:Antwerp\, Antwerp\, Belgium
CATEGORIES:NPC Worldwide Regional
ATTACH;FMTTYPE=image/jpeg:https://www.ifbbpro.com/wp-content/uploads/2025/01/2025netherlandsnatR_09225.jpg
ORGANIZER;CN="Liona Bergmann (Belgium)":MAILTO:krachtigfit@gmail.com
END:VEVENT
BEGIN:VEVENT
DTSTART;VALUE=DATE:20250921
DTEND;VALUE=DATE:20250922
DTSTAMP:20260419T211923
CREATED:20241225T175724Z
LAST-MODIFIED:20250923T175850Z
UID:16316-1758412800-1758499199@www.ifbbpro.com
SUMMARY:2025 Huanji China Pro
DESCRIPTION:
URL:https://www.ifbbpro.com/competition/2025-huanji-china-pro-3/
LOCATION:Xi’an\, Xi'an\, China
CATEGORIES:IFBB Pro League PRO
ATTACH;FMTTYPE=image/jpeg:https://www.ifbbpro.com/wp-content/uploads/2024/12/2025huanjiPROv2_092125.jpg
ORGANIZER;CN="George Zhang":MAILTO:huanjichinapro@163.com
END:VEVENT
END:VCALENDAR