BEGIN:VCALENDAR
VERSION:2.0
PRODID:-//IFBB Pro - ECPv6.15.20//NONSGML v1.0//EN
CALSCALE:GREGORIAN
METHOD:PUBLISH
X-WR-CALNAME:IFBB Pro
X-ORIGINAL-URL:https://www.ifbbpro.com
X-WR-CALDESC:Events for IFBB Pro
REFRESH-INTERVAL;VALUE=DURATION:PT1H
X-Robots-Tag:noindex
X-PUBLISHED-TTL:PT1H
BEGIN:VTIMEZONE
TZID:America/Toronto
BEGIN:DAYLIGHT
TZOFFSETFROM:-0500
TZOFFSETTO:-0400
TZNAME:EDT
DTSTART:20240310T070000
END:DAYLIGHT
BEGIN:STANDARD
TZOFFSETFROM:-0400
TZOFFSETTO:-0500
TZNAME:EST
DTSTART:20241103T060000
END:STANDARD
BEGIN:DAYLIGHT
TZOFFSETFROM:-0500
TZOFFSETTO:-0400
TZNAME:EDT
DTSTART:20250309T070000
END:DAYLIGHT
BEGIN:STANDARD
TZOFFSETFROM:-0400
TZOFFSETTO:-0500
TZNAME:EST
DTSTART:20251102T060000
END:STANDARD
BEGIN:DAYLIGHT
TZOFFSETFROM:-0500
TZOFFSETTO:-0400
TZNAME:EDT
DTSTART:20260308T070000
END:DAYLIGHT
BEGIN:STANDARD
TZOFFSETFROM:-0400
TZOFFSETTO:-0500
TZNAME:EST
DTSTART:20261101T060000
END:STANDARD
END:VTIMEZONE
BEGIN:VEVENT
DTSTART;VALUE=DATE:20251102
DTEND;VALUE=DATE:20251103
DTSTAMP:20260424T224644
CREATED:20250812T000539Z
LAST-MODIFIED:20250812T000729Z
UID:20198-1762041600-1762127999@www.ifbbpro.com
SUMMARY:2025 Campeonato de Espana Regional
DESCRIPTION:
URL:https://www.ifbbpro.com/competition/2025-campeonato-de-espana-regional/
LOCATION:Alicante\, Alicante\, Spain
CATEGORIES:NPC Worldwide Regional
ATTACH;FMTTYPE=image/jpeg:https://www.ifbbpro.com/wp-content/uploads/2025/08/2025spainR_110225.jpg
ORGANIZER;CN="Emilio Martinez":MAILTO:emilio@emiliomartinez.com
END:VEVENT
BEGIN:VEVENT
DTSTART;VALUE=DATE:20251101
DTEND;VALUE=DATE:20251102
DTSTAMP:20260424T224644
CREATED:20250112T182717Z
LAST-MODIFIED:20250112T182717Z
UID:17262-1761955200-1762041599@www.ifbbpro.com
SUMMARY:2025 Open Poland Championships Regional
DESCRIPTION:
URL:https://www.ifbbpro.com/competition/2025-open-poland-championships-regional/
LOCATION:Warsaw\, Warsaw\, Poland
CATEGORIES:NPC Worldwide Regional
ATTACH;FMTTYPE=image/jpeg:https://www.ifbbpro.com/wp-content/uploads/2025/01/2025polandR_110125.jpg
ORGANIZER;CN="Robert Piotrkowicz":MAILTO:office@ifbbpro.pl
END:VEVENT
BEGIN:VEVENT
DTSTART;VALUE=DATE:20251101
DTEND;VALUE=DATE:20251102
DTSTAMP:20260424T224644
CREATED:20250111T172138Z
LAST-MODIFIED:20250112T231925Z
UID:17225-1761955200-1762041599@www.ifbbpro.com
SUMMARY:2025 Japan Open Regional
DESCRIPTION:
URL:https://www.ifbbpro.com/competition/2025-japan-open-regional/
LOCATION:Saitama\, Saitama\, Japan
CATEGORIES:NPC Worldwide Regional
ATTACH;FMTTYPE=image/jpeg:https://www.ifbbpro.com/wp-content/uploads/2025/01/2025japanR_110125.jpg
ORGANIZER;CN="Takayuki Shoji (NPC Worldwide)":MAILTO:info@ifbbpro-japan.com
END:VEVENT
BEGIN:VEVENT
DTSTART;VALUE=DATE:20251025
DTEND;VALUE=DATE:20251026
DTSTAMP:20260424T224644
CREATED:20250419T173329Z
LAST-MODIFIED:20250419T173330Z
UID:18877-1761350400-1761436799@www.ifbbpro.com
SUMMARY:2025 Moscow Pro/Am Showdown Regional
DESCRIPTION:
URL:https://www.ifbbpro.com/competition/2025-moscow-pro-am-showdown-regional/
LOCATION:Moscow\, Moscow\, Russian Federation
CATEGORIES:NPC Worldwide Regional
ATTACH;FMTTYPE=image/jpeg:https://www.ifbbpro.com/wp-content/uploads/2025/04/2025russiaPRO_102525.jpg
ORGANIZER;CN="Oksana Grishina":MAILTO:grishinaksusha@yahoo.com
END:VEVENT
BEGIN:VEVENT
DTSTART;VALUE=DATE:20251025
DTEND;VALUE=DATE:20251026
DTSTAMP:20260424T224644
CREATED:20250111T171957Z
LAST-MODIFIED:20250111T171957Z
UID:17222-1761350400-1761436799@www.ifbbpro.com
SUMMARY:2025 Mid Japan Championships Regional
DESCRIPTION:
URL:https://www.ifbbpro.com/competition/2025-mid-japan-championships-regional/
LOCATION:Aichi\, Aichi\, Japan
CATEGORIES:NPC Worldwide Regional
ATTACH;FMTTYPE=image/jpeg:https://www.ifbbpro.com/wp-content/uploads/2025/01/2025japanR_102525.jpg
ORGANIZER;CN="Takayuki Shoji (NPC Worldwide)":MAILTO:info@ifbbpro-japan.com
END:VEVENT
BEGIN:VEVENT
DTSTART;VALUE=DATE:20251019
DTEND;VALUE=DATE:20251020
DTSTAMP:20260424T224644
CREATED:20250210T151527Z
LAST-MODIFIED:20250210T151527Z
UID:17985-1760832000-1760918399@www.ifbbpro.com
SUMMARY:2025 Spain Naturals Regional
DESCRIPTION:
URL:https://www.ifbbpro.com/competition/2025-spain-naturals-regional/
LOCATION:Madrid\, Madrid\, Spain
CATEGORIES:NPC Worldwide Regional
ATTACH;FMTTYPE=image/jpeg:https://www.ifbbpro.com/wp-content/uploads/2025/02/2025spainNR_101925.jpg
ORGANIZER;CN="Gabriel Opare":MAILTO:info@npcworldwidespain.es
END:VEVENT
BEGIN:VEVENT
DTSTART;VALUE=DATE:20251018
DTEND;VALUE=DATE:20251020
DTSTAMP:20260424T224644
CREATED:20250429T033814Z
LAST-MODIFIED:20250429T033814Z
UID:18992-1760745600-1760918399@www.ifbbpro.com
SUMMARY:2025 Pharlabs Mexico Pro/Am Regional
DESCRIPTION:
URL:https://www.ifbbpro.com/competition/2025-pharlabs-mexico-pro-am-regional/
LOCATION:Cuidad de Mexico\, Cuidad de Mexico\, Mexico
CATEGORIES:NPC Worldwide Regional
ATTACH;FMTTYPE=image/jpeg:https://www.ifbbpro.com/wp-content/uploads/2025/03/2025mexicoPRO_101825.jpg
ORGANIZER;CN="Slawomir Porowski & Patricia Pavon":MAILTO:pslavek@pharlabspremium.org
END:VEVENT
BEGIN:VEVENT
DTSTART;VALUE=DATE:20251018
DTEND;VALUE=DATE:20251020
DTSTAMP:20260424T224644
CREATED:20250407T131530Z
LAST-MODIFIED:20250407T131530Z
UID:18813-1760745600-1760918399@www.ifbbpro.com
SUMMARY:2025 Fashion Street Fitparade Eagle Classic Natural Regional
DESCRIPTION:
URL:https://www.ifbbpro.com/competition/2025-fashion-street-fitparade-eagle-classic-natural-regional/
LOCATION:Budapest\, Budapest\, Hungary
CATEGORIES:NPC Worldwide Regional
ATTACH;FMTTYPE=image/jpeg:https://www.ifbbpro.com/wp-content/uploads/2025/04/2025hungaryNR_101825.jpg
ORGANIZER;CN="Ildiko Buranits (FitParade)":MAILTO:office@fitparade.hu
END:VEVENT
BEGIN:VEVENT
DTSTART;VALUE=DATE:20251018
DTEND;VALUE=DATE:20251020
DTSTAMP:20260424T224644
CREATED:20250407T131212Z
LAST-MODIFIED:20250407T131212Z
UID:18810-1760745600-1760918399@www.ifbbpro.com
SUMMARY:2025 Fashion Street Fitparade Eagle Classic Regional
DESCRIPTION:
URL:https://www.ifbbpro.com/competition/2025-fashion-street-fitparade-eagle-classic-regional/
LOCATION:Budapest\, Budapest\, Hungary
CATEGORIES:NPC Worldwide Regional
ATTACH;FMTTYPE=image/jpeg:https://www.ifbbpro.com/wp-content/uploads/2025/04/2025hungaryR_101825.jpg
ORGANIZER;CN="Ildiko Buranits (FitParade)":MAILTO:office@fitparade.hu
END:VEVENT
BEGIN:VEVENT
DTSTART;VALUE=DATE:20251018
DTEND;VALUE=DATE:20251019
DTSTAMP:20260424T224644
CREATED:20250111T171806Z
LAST-MODIFIED:20250111T171806Z
UID:17219-1760745600-1760831999@www.ifbbpro.com
SUMMARY:2025 North Japan Championships Regional
DESCRIPTION:
URL:https://www.ifbbpro.com/competition/2025-north-japan-championships-regional/
LOCATION:Fukushima\, Fukushima\, Japan
CATEGORIES:NPC Worldwide Regional
ATTACH;FMTTYPE=image/jpeg:https://www.ifbbpro.com/wp-content/uploads/2025/01/2025japanR_101825.jpg
ORGANIZER;CN="Takayuki Shoji (NPC Worldwide)":MAILTO:info@ifbbpro-japan.com
END:VEVENT
BEGIN:VEVENT
DTSTART;VALUE=DATE:20251011
DTEND;VALUE=DATE:20251013
DTSTAMP:20260424T224644
CREATED:20250112T182316Z
LAST-MODIFIED:20250112T182317Z
UID:17256-1760140800-1760313599@www.ifbbpro.com
SUMMARY:2025 Natural Poland Championships Regional
DESCRIPTION:
URL:https://www.ifbbpro.com/competition/2025-natural-poland-championships-regional/
LOCATION:Warsaw\, Warsaw\, Poland
CATEGORIES:NPC Worldwide Regional
ATTACH;FMTTYPE=image/jpeg:https://www.ifbbpro.com/wp-content/uploads/2025/01/2025polandNATR_101225.jpg
ORGANIZER;CN="Robert Piotrkowicz":MAILTO:office@ifbbpro.pl
END:VEVENT
BEGIN:VEVENT
DTSTART;VALUE=DATE:20251011
DTEND;VALUE=DATE:20251012
DTSTAMP:20260424T224644
CREATED:20250112T181826Z
LAST-MODIFIED:20250112T181827Z
UID:17253-1760140800-1760227199@www.ifbbpro.com
SUMMARY:2025 Super Cup of Poland Regional
DESCRIPTION:
URL:https://www.ifbbpro.com/competition/2025-super-cup-of-poland-regional/
LOCATION:Warsaw\, Warsaw\, Poland
CATEGORIES:NPC Worldwide Regional
ATTACH;FMTTYPE=image/jpeg:https://www.ifbbpro.com/wp-content/uploads/2025/01/2025polandR_101125.jpg
ORGANIZER;CN="Robert Piotrkowicz":MAILTO:office@ifbbpro.pl
END:VEVENT
BEGIN:VEVENT
DTSTART;VALUE=DATE:20251005
DTEND;VALUE=DATE:20251006
DTSTAMP:20260424T224644
CREATED:20250807T165438Z
LAST-MODIFIED:20250807T165438Z
UID:20103-1759622400-1759708799@www.ifbbpro.com
SUMMARY:2025 Balkan Grand Prix Regional
DESCRIPTION:
URL:https://www.ifbbpro.com/competition/2025-balkan-grand-prix-regional/
LOCATION:Sofia\, Sofia\, Bulgaria
CATEGORIES:NPC Worldwide Regional
ATTACH;FMTTYPE=image/jpeg:https://www.ifbbpro.com/wp-content/uploads/2025/08/2025balkanR_100525.jpg
ORGANIZER;CN="Martin Rusanov":MAILTO:promoterbulgaria@gmail.com
END:VEVENT
BEGIN:VEVENT
DTSTART;VALUE=DATE:20251005
DTEND;VALUE=DATE:20251006
DTSTAMP:20260424T224644
CREATED:20250728T160836Z
LAST-MODIFIED:20250728T161801Z
UID:19925-1759622400-1759708799@www.ifbbpro.com
SUMMARY:2025 Meso Stars Regional
DESCRIPTION:
URL:https://www.ifbbpro.com/competition/2025-meso-stars-regional/
LOCATION:Or Akiva\, Or Akiva\, Israel
CATEGORIES:NPC Worldwide Regional
ATTACH;FMTTYPE=image/jpeg:https://www.ifbbpro.com/wp-content/uploads/2025/07/2025israelR_100525.jpg
ORGANIZER;CN="Hagit Seindlis":MAILTO:hagit@meso.co.il
END:VEVENT
BEGIN:VEVENT
DTSTART;VALUE=DATE:20251005
DTEND;VALUE=DATE:20251006
DTSTAMP:20260424T224644
CREATED:20250118T133448Z
LAST-MODIFIED:20250118T133449Z
UID:17456-1759622400-1759708799@www.ifbbpro.com
SUMMARY:2025 iCandy Classic Mother City South Africa Regional
DESCRIPTION:
URL:https://www.ifbbpro.com/competition/2025-icandy-classic-mother-city-south-africa-regional/
LOCATION:Cape Town\, Cape Town\, South Africa
CATEGORIES:NPC Worldwide Regional
ATTACH;FMTTYPE=image/jpeg:https://www.ifbbpro.com/wp-content/uploads/2025/01/2025southafricaR_100525.jpg
ORGANIZER;CN="Champagne Productions":MAILTO:info@champagneproductions.co.za
END:VEVENT
BEGIN:VEVENT
DTSTART;VALUE=DATE:20251005
DTEND;VALUE=DATE:20251006
DTSTAMP:20260424T224644
CREATED:20250112T180823Z
LAST-MODIFIED:20250112T180824Z
UID:17243-1759622400-1759708799@www.ifbbpro.com
SUMMARY:2025 Krachtig Fit Cup Netherlands Regional
DESCRIPTION:
URL:https://www.ifbbpro.com/competition/2025-krachtig-fit-cup-netherlands-regional/
LOCATION:Hoogeveen\, Hoogeveen\, Netherlands
CATEGORIES:NPC Worldwide Regional
ATTACH;FMTTYPE=image/jpeg:https://www.ifbbpro.com/wp-content/uploads/2025/01/2025netherlandsR_100525.jpg
ORGANIZER;CN="Liona Bergmann (Krachtigfit)":MAILTO:krachtigfit@gmail.com
END:VEVENT
BEGIN:VEVENT
DTSTART;VALUE=DATE:20251004
DTEND;VALUE=DATE:20251006
DTSTAMP:20260424T224644
CREATED:20250716T202132Z
LAST-MODIFIED:20250716T202132Z
UID:19804-1759536000-1759708799@www.ifbbpro.com
SUMMARY:2025 Grand Prix Poland Regional
DESCRIPTION:
URL:https://www.ifbbpro.com/competition/2025-grand-prix-poland-regional/
LOCATION:Warsaw\, Warsaw\, Poland
CATEGORIES:NPC Worldwide Regional
ATTACH;FMTTYPE=image/jpeg:https://www.ifbbpro.com/wp-content/uploads/2025/07/2025polandR_100425.jpg
ORGANIZER;CN="Robert Piotrkowicz":MAILTO:office@ifbbpro.pl
END:VEVENT
BEGIN:VEVENT
DTSTART;VALUE=DATE:20251004
DTEND;VALUE=DATE:20251006
DTSTAMP:20260424T224644
CREATED:20250716T201750Z
LAST-MODIFIED:20250716T201750Z
UID:19801-1759536000-1759708799@www.ifbbpro.com
SUMMARY:2025 AMIX Classic Spain Regional
DESCRIPTION:
URL:https://www.ifbbpro.com/competition/2025-amix-classic-spain-regional/
LOCATION:Valencia\, Valencia\, Spain
CATEGORIES:NPC Worldwide Regional
ATTACH;FMTTYPE=image/jpeg:https://www.ifbbpro.com/wp-content/uploads/2025/07/2025spainR_100425.jpg
ORGANIZER;CN="Pablo Martinez":MAILTO:pablomartinez@ifbbprovalencia.com
END:VEVENT
BEGIN:VEVENT
DTSTART;VALUE=DATE:20251004
DTEND;VALUE=DATE:20251005
DTSTAMP:20260424T224644
CREATED:20250625T155009Z
LAST-MODIFIED:20250625T190233Z
UID:19651-1759536000-1759622399@www.ifbbpro.com
SUMMARY:2025 ZNT Int. South German Cup Regional
DESCRIPTION:
URL:https://www.ifbbpro.com/competition/2025-znt-int-south-german-cup-regional/
LOCATION:Erlangen\, Erlangen\, Germany
CATEGORIES:NPC Worldwide Regional
ATTACH;FMTTYPE=image/jpeg:https://www.ifbbpro.com/wp-content/uploads/2025/06/2025germanyr_100425.jpg
ORGANIZER;CN="Dennis James (South German Cup)":MAILTO:npcworldwidegermany@gmail.com
END:VEVENT
BEGIN:VEVENT
DTSTART;VALUE=DATE:20251004
DTEND;VALUE=DATE:20251005
DTSTAMP:20260424T224644
CREATED:20250507T120306Z
LAST-MODIFIED:20250507T164046Z
UID:19046-1759536000-1759622399@www.ifbbpro.com
SUMMARY:2025 Ironbeasts Powerexpo Naturals Portugal Regional
DESCRIPTION:
URL:https://www.ifbbpro.com/competition/2025-ironbeasts-powerexpo-naturals-portugal-regional/
LOCATION:Maia\, Maia\, Portugal
CATEGORIES:NPC Worldwide Regional
ATTACH;FMTTYPE=image/jpeg:https://www.ifbbpro.com/wp-content/uploads/2025/05/2025portugalNATR_100425.jpg
ORGANIZER;CN="Mr. Big Evolution":MAILTO:ifbbproportugal@gmail.com
END:VEVENT
BEGIN:VEVENT
DTSTART;VALUE=DATE:20251004
DTEND;VALUE=DATE:20251005
DTSTAMP:20260424T224644
CREATED:20250405T142302Z
LAST-MODIFIED:20250405T142302Z
UID:18755-1759536000-1759622399@www.ifbbpro.com
SUMMARY:2025 EU Nutrition Classic Regional
DESCRIPTION:
URL:https://www.ifbbpro.com/competition/2025-eu-nutrition-classic-regional/
LOCATION:Maia\, Maia\, Portugal
CATEGORIES:NPC Worldwide Regional
ATTACH;FMTTYPE=image/jpeg:https://www.ifbbpro.com/wp-content/uploads/2025/04/2025portugalR_100425.jpg
ORGANIZER;CN="Mr. Big Evolution":MAILTO:ifbbproportugal@gmail.com
END:VEVENT
BEGIN:VEVENT
DTSTART;VALUE=DATE:20250928
DTEND;VALUE=DATE:20250929
DTSTAMP:20260424T224644
CREATED:20250130T150254Z
LAST-MODIFIED:20250130T150254Z
UID:17734-1759017600-1759103999@www.ifbbpro.com
SUMMARY:2025 Vahalia Warriors Championship Regional
DESCRIPTION:
URL:https://www.ifbbpro.com/competition/2025-vahalia-warriors-championship-regional/
LOCATION:Sibiu\, Sibiu\, Romania
CATEGORIES:NPC Worldwide Regional
ATTACH;FMTTYPE=image/jpeg:https://www.ifbbpro.com/wp-content/uploads/2025/01/2025romaniaR_092825.jpg
ORGANIZER;CN="Alina Popa (RMF)":MAILTO:alina@wingsofstrength.net
END:VEVENT
BEGIN:VEVENT
DTSTART;VALUE=DATE:20250927
DTEND;VALUE=DATE:20250928
DTSTAMP:20260424T224644
CREATED:20250718T124509Z
LAST-MODIFIED:20250718T124509Z
UID:19815-1758931200-1759017599@www.ifbbpro.com
SUMMARY:2025 World of Monsterzym Korea Regional
DESCRIPTION:
URL:https://www.ifbbpro.com/competition/2025-world-of-monsterzym-korea-regional/
LOCATION:Incheon City\, Incheon City\, Korea\, Republic of
CATEGORIES:NPC Worldwide Regional
ATTACH;FMTTYPE=image/jpeg:https://www.ifbbpro.com/wp-content/uploads/2025/07/2025koreaNATPRO_092725.jpg
ORGANIZER;CN="Sungyeob Steve Kim":MAILTO:contact@monsterzym.com
END:VEVENT
BEGIN:VEVENT
DTSTART;VALUE=DATE:20250927
DTEND;VALUE=DATE:20250928
DTSTAMP:20260424T224644
CREATED:20250718T124403Z
LAST-MODIFIED:20250718T124404Z
UID:19813-1758931200-1759017599@www.ifbbpro.com
SUMMARY:2025 World of Monsterzym Korea Natural Regional
DESCRIPTION:
URL:https://www.ifbbpro.com/competition/2025-world-of-monsterzym-korea-natural-regional/
LOCATION:Incheon City\, Incheon City\, Korea\, Republic of
CATEGORIES:NPC Worldwide Regional
ATTACH;FMTTYPE=image/jpeg:https://www.ifbbpro.com/wp-content/uploads/2025/07/2025koreaNATPRO_092725.jpg
ORGANIZER;CN="Sungyeob Steve Kim":MAILTO:contact@monsterzym.com
END:VEVENT
BEGIN:VEVENT
DTSTART;VALUE=DATE:20250927
DTEND;VALUE=DATE:20250928
DTSTAMP:20260424T224644
CREATED:20250218T161500Z
LAST-MODIFIED:20250425T181832Z
UID:18103-1758931200-1759017599@www.ifbbpro.com
SUMMARY:2025 Iron Canary Fest Regional
DESCRIPTION:
URL:https://www.ifbbpro.com/competition/2025-iron-canary-fest-regional/
LOCATION:Tenerife\, Tenerife\, Spain
CATEGORIES:NPC Worldwide Regional
ATTACH;FMTTYPE=image/jpeg:https://www.ifbbpro.com/wp-content/uploads/2025/02/2025spainRv2_092725.jpg
ORGANIZER;CN="Emilio Martinez":MAILTO:emilio@emiliomartinez.com
END:VEVENT
BEGIN:VEVENT
DTSTART;VALUE=DATE:20250921
DTEND;VALUE=DATE:20250922
DTSTAMP:20260424T224644
CREATED:20250304T163304Z
LAST-MODIFIED:20250304T163304Z
UID:18303-1758412800-1758499199@www.ifbbpro.com
SUMMARY:2025 Lithuania Power of the Knight Regional
DESCRIPTION:
URL:https://www.ifbbpro.com/competition/2025-lithuania-power-of-the-knight-regional/
LOCATION:Vilnius\, Vilnius\, Lithuania
CATEGORIES:NPC Worldwide Regional
ATTACH;FMTTYPE=image/jpeg:https://www.ifbbpro.com/wp-content/uploads/2025/03/2025lithuaniaR_092125.jpg
ORGANIZER;CN="Karolis Zilinskas & Maria Ibarra":MAILTO:kulturizmas@yahoo.com
END:VEVENT
BEGIN:VEVENT
DTSTART;VALUE=DATE:20250921
DTEND;VALUE=DATE:20250922
DTSTAMP:20260424T224644
CREATED:20250112T175815Z
LAST-MODIFIED:20250213T144443Z
UID:17236-1758412800-1758499199@www.ifbbpro.com
SUMMARY:2025 Natural Physique Trophy Belgium Regional
DESCRIPTION:
URL:https://www.ifbbpro.com/competition/2025-natural-physique-trophy-belgium-regional/
LOCATION:Antwerp\, Antwerp\, Belgium
CATEGORIES:NPC Worldwide Regional
ATTACH;FMTTYPE=image/jpeg:https://www.ifbbpro.com/wp-content/uploads/2025/01/2025netherlandsnatR_09225.jpg
ORGANIZER;CN="Liona Bergmann (Belgium)":MAILTO:krachtigfit@gmail.com
END:VEVENT
BEGIN:VEVENT
DTSTART;VALUE=DATE:20250920
DTEND;VALUE=DATE:20250921
DTSTAMP:20260424T224644
CREATED:20250612T145235Z
LAST-MODIFIED:20250612T145235Z
UID:19525-1758326400-1758412799@www.ifbbpro.com
SUMMARY:2025 Better Bodies Sweden Challenge Regional
DESCRIPTION:
URL:https://www.ifbbpro.com/competition/2025-better-bodies-sweden-challenge-regional/
LOCATION:Sodertalje\, Sodertalje\, Sweden
CATEGORIES:NPC Worldwide Regional
ATTACH;FMTTYPE=image/jpeg:https://www.ifbbpro.com/wp-content/uploads/2025/06/2025swedenR_092025.jpg
ORGANIZER;CN="Hanne Gaines":MAILTO:hanne.gaines@swedishfitness.se
END:VEVENT
BEGIN:VEVENT
DTSTART;VALUE=DATE:20250920
DTEND;VALUE=DATE:20250921
DTSTAMP:20260424T224644
CREATED:20250210T144052Z
LAST-MODIFIED:20250210T144052Z
UID:17968-1758326400-1758412799@www.ifbbpro.com
SUMMARY:2025 Laura Ziv Natural Regional
DESCRIPTION:
URL:https://www.ifbbpro.com/competition/2025-laura-ziv-natural-regional/
LOCATION:Lille\, Lille\, France
CATEGORIES:NPC Worldwide Regional
ATTACH;FMTTYPE=image/jpeg:https://www.ifbbpro.com/wp-content/uploads/2025/02/2025framceNATR_092025.jpg
ORGANIZER;CN="APDF France":MAILTO:ronhache@unitz.ca
END:VEVENT
BEGIN:VEVENT
DTSTART;VALUE=DATE:20250920
DTEND;VALUE=DATE:20250921
DTSTAMP:20260424T224644
CREATED:20250111T171621Z
LAST-MODIFIED:20250111T171622Z
UID:17216-1758326400-1758412799@www.ifbbpro.com
SUMMARY:2025 Mola Cup Japan Regional
DESCRIPTION:
URL:https://www.ifbbpro.com/competition/2025-mola-cup-japan-regional/
LOCATION:Ibaraki\, Ibaraki\, Japan
CATEGORIES:NPC Worldwide Regional
ATTACH;FMTTYPE=image/jpeg:https://www.ifbbpro.com/wp-content/uploads/2025/01/2025japanR_092025.jpg
ORGANIZER;CN="Takayuki Shoji (NPC Worldwide)":MAILTO:info@ifbbpro-japan.com
END:VEVENT
END:VCALENDAR