BEGIN:VCALENDAR
VERSION:2.0
PRODID:-//IFBB Pro - ECPv6.15.20//NONSGML v1.0//EN
CALSCALE:GREGORIAN
METHOD:PUBLISH
X-WR-CALNAME:IFBB Pro
X-ORIGINAL-URL:https://www.ifbbpro.com
X-WR-CALDESC:Events for IFBB Pro
REFRESH-INTERVAL;VALUE=DURATION:PT1H
X-Robots-Tag:noindex
X-PUBLISHED-TTL:PT1H
BEGIN:VTIMEZONE
TZID:America/Toronto
BEGIN:DAYLIGHT
TZOFFSETFROM:-0500
TZOFFSETTO:-0400
TZNAME:EDT
DTSTART:20240310T070000
END:DAYLIGHT
BEGIN:STANDARD
TZOFFSETFROM:-0400
TZOFFSETTO:-0500
TZNAME:EST
DTSTART:20241103T060000
END:STANDARD
BEGIN:DAYLIGHT
TZOFFSETFROM:-0500
TZOFFSETTO:-0400
TZNAME:EDT
DTSTART:20250309T070000
END:DAYLIGHT
BEGIN:STANDARD
TZOFFSETFROM:-0400
TZOFFSETTO:-0500
TZNAME:EST
DTSTART:20251102T060000
END:STANDARD
BEGIN:DAYLIGHT
TZOFFSETFROM:-0500
TZOFFSETTO:-0400
TZNAME:EDT
DTSTART:20260308T070000
END:DAYLIGHT
BEGIN:STANDARD
TZOFFSETFROM:-0400
TZOFFSETTO:-0500
TZNAME:EST
DTSTART:20261101T060000
END:STANDARD
END:VTIMEZONE
BEGIN:VEVENT
DTSTART;VALUE=DATE:20251121
DTEND;VALUE=DATE:20251123
DTSTAMP:20260421T063753
CREATED:20241225T193709Z
LAST-MODIFIED:20251123T012823Z
UID:16365-1763683200-1763855999@www.ifbbpro.com
SUMMARY:2025 Ben Weider Naturals Pro
DESCRIPTION:Natural Men’s Bodybuilding\nNatural Classic Physique\nNatural Men’s Physique\nNatural Fitness\nNatural Figure\nNatural Bikini’s Physique\nNatural Women\nNatural Wellness \n*Also featuring Masters 40 in Men’s Bodybuilding\, Classic Physique\, Men’s Physique\, Fitness\, Figure\, Bikini\, Women’s Physique\, and Wellness.
URL:https://www.ifbbpro.com/competition/2025-ben-weider-naturals-pro/
LOCATION:Alexandria\, Alexandria\, VA\, United States
CATEGORIES:IFBB Pro League PRO
ATTACH;FMTTYPE=image/jpeg:https://www.ifbbpro.com/wp-content/uploads/2024/12/2025bwnatPRO_112125.jpg
ORGANIZER;CN="Gary Udit & Ron Hache":MAILTO:gary@garyudit.com
END:VEVENT
BEGIN:VEVENT
DTSTART;VALUE=DATE:20251121
DTEND;VALUE=DATE:20251124
DTSTAMP:20260421T063753
CREATED:20250924T134259Z
LAST-MODIFIED:20251123T182826Z
UID:20759-1763683200-1763942399@www.ifbbpro.com
SUMMARY:2025 Bharat Pro Show
DESCRIPTION:Open Classic Physique\nOpen Men’s Physique\nOpen Wheelchair
URL:https://www.ifbbpro.com/competition/2025-bharat-pro-show/
LOCATION:Mumbai\, Mumbai\, India
CATEGORIES:IFBB Pro League PRO
ATTACH;FMTTYPE=image/jpeg:https://www.ifbbpro.com/wp-content/uploads/2025/09/2025indiaPROv5_112325.jpg
ORGANIZER;CN="Sheru Aangrish & Manish Gandhi":MAILTO:sheru@sheruclassic.com
END:VEVENT
END:VCALENDAR