BEGIN:VCALENDAR
VERSION:2.0
PRODID:-//IFBB Pro - ECPv6.15.20//NONSGML v1.0//EN
CALSCALE:GREGORIAN
METHOD:PUBLISH
X-WR-CALNAME:IFBB Pro
X-ORIGINAL-URL:https://www.ifbbpro.com
X-WR-CALDESC:Events for IFBB Pro
REFRESH-INTERVAL;VALUE=DURATION:PT1H
X-Robots-Tag:noindex
X-PUBLISHED-TTL:PT1H
BEGIN:VTIMEZONE
TZID:America/Toronto
BEGIN:DAYLIGHT
TZOFFSETFROM:-0500
TZOFFSETTO:-0400
TZNAME:EDT
DTSTART:20240310T070000
END:DAYLIGHT
BEGIN:STANDARD
TZOFFSETFROM:-0400
TZOFFSETTO:-0500
TZNAME:EST
DTSTART:20241103T060000
END:STANDARD
BEGIN:DAYLIGHT
TZOFFSETFROM:-0500
TZOFFSETTO:-0400
TZNAME:EDT
DTSTART:20250309T070000
END:DAYLIGHT
BEGIN:STANDARD
TZOFFSETFROM:-0400
TZOFFSETTO:-0500
TZNAME:EST
DTSTART:20251102T060000
END:STANDARD
BEGIN:DAYLIGHT
TZOFFSETFROM:-0500
TZOFFSETTO:-0400
TZNAME:EDT
DTSTART:20260308T070000
END:DAYLIGHT
BEGIN:STANDARD
TZOFFSETFROM:-0400
TZOFFSETTO:-0500
TZNAME:EST
DTSTART:20261101T060000
END:STANDARD
END:VTIMEZONE
BEGIN:VEVENT
DTSTART;VALUE=DATE:20251009
DTEND;VALUE=DATE:20251012
DTSTAMP:20260421T175829
CREATED:20250905T184616Z
LAST-MODIFIED:20251012T133232Z
UID:20429-1759968000-1760227199@www.ifbbpro.com
SUMMARY:2025 Joe Weider's OLYMPIA Fitness & Performance Weekend
DESCRIPTION:This is the final OLYMPIA competitor list after check-ins.
URL:https://www.ifbbpro.com/competition/2025-joe-weiders-olympia-fitness-performance-weekend/
LOCATION:Las Vegas\, Las Vegas\, NV\, United States
CATEGORIES:IFBB Pro League PRO
ATTACH;FMTTYPE=image/jpeg:https://www.ifbbpro.com/wp-content/uploads/2025/09/2025olympiaPRO_100925.jpg
ORGANIZER;CN="OLYMPIA%2C LLC (Pro)":MAILTO:contact@mrolympia.com
END:VEVENT
END:VCALENDAR