BEGIN:VCALENDAR
VERSION:2.0
PRODID:-//IFBB Pro - ECPv6.15.20//NONSGML v1.0//EN
CALSCALE:GREGORIAN
METHOD:PUBLISH
X-WR-CALNAME:IFBB Pro
X-ORIGINAL-URL:https://www.ifbbpro.com
X-WR-CALDESC:Events for IFBB Pro
REFRESH-INTERVAL;VALUE=DURATION:PT1H
X-Robots-Tag:noindex
X-PUBLISHED-TTL:PT1H
BEGIN:VTIMEZONE
TZID:America/Toronto
BEGIN:DAYLIGHT
TZOFFSETFROM:-0500
TZOFFSETTO:-0400
TZNAME:EDT
DTSTART:20250309T070000
END:DAYLIGHT
BEGIN:STANDARD
TZOFFSETFROM:-0400
TZOFFSETTO:-0500
TZNAME:EST
DTSTART:20251102T060000
END:STANDARD
BEGIN:DAYLIGHT
TZOFFSETFROM:-0500
TZOFFSETTO:-0400
TZNAME:EDT
DTSTART:20260308T070000
END:DAYLIGHT
BEGIN:STANDARD
TZOFFSETFROM:-0400
TZOFFSETTO:-0500
TZNAME:EST
DTSTART:20261101T060000
END:STANDARD
BEGIN:DAYLIGHT
TZOFFSETFROM:-0500
TZOFFSETTO:-0400
TZNAME:EDT
DTSTART:20270314T070000
END:DAYLIGHT
BEGIN:STANDARD
TZOFFSETFROM:-0400
TZOFFSETTO:-0500
TZNAME:EST
DTSTART:20271107T060000
END:STANDARD
END:VTIMEZONE
BEGIN:VEVENT
DTSTART;VALUE=DATE:20260711
DTEND;VALUE=DATE:20260712
DTSTAMP:20260419T155952
CREATED:20260311T181605Z
LAST-MODIFIED:20260311T181746Z
UID:23333-1783728000-1783814399@www.ifbbpro.com
SUMMARY:2026 Amateur Olympia China Pro Qualifier
DESCRIPTION:
URL:https://www.ifbbpro.com/competition/2026-amateur-olympia-china-pro-qualifier/
LOCATION:Beijing\, Beijing\, China
CATEGORIES:NPC Worldwide Pro Qualifier
ATTACH;FMTTYPE=image/jpeg:https://www.ifbbpro.com/wp-content/uploads/2026/03/2026aochinaPQ_071126.jpg
ORGANIZER;CN="Kate Zou":MAILTO:olympiachina001@gmail.com
END:VEVENT
BEGIN:VEVENT
DTSTART;VALUE=DATE:20260717
DTEND;VALUE=DATE:20260719
DTSTAMP:20260419T155952
CREATED:20260311T182011Z
LAST-MODIFIED:20260325T190002Z
UID:23336-1784246400-1784419199@www.ifbbpro.com
SUMMARY:2026 Ms. International Pro Qualifier (Women's Bodybuilding only)
DESCRIPTION:
URL:https://www.ifbbpro.com/competition/2026-ms-international-pro-qualifier-womens-bodybuilding-only/
LOCATION:Rosemont\, Rosemont\, IL\, United States
CATEGORIES:NPC Worldwide Pro Qualifier
ATTACH;FMTTYPE=image/jpeg:https://www.ifbbpro.com/wp-content/uploads/2026/03/chicagoPQ_071726-v2.jpg
ORGANIZER;CN="Tim Gardner":MAILTO:tgflex.florida@gmail.com
END:VEVENT
BEGIN:VEVENT
DTSTART;VALUE=DATE:20260718
DTEND;VALUE=DATE:20260720
DTSTAMP:20260419T155952
CREATED:20260311T182702Z
LAST-MODIFIED:20260311T182703Z
UID:23338-1784332800-1784505599@www.ifbbpro.com
SUMMARY:2026 Mexico Supershow Pro Qualifier
DESCRIPTION:
URL:https://www.ifbbpro.com/competition/2026-mexico-supershow-pro-qualifier/
LOCATION:Guadalajara\, Guadalajara\, Mexico
CATEGORIES:NPC Worldwide Pro Qualifier
ATTACH;FMTTYPE=image/jpeg:https://www.ifbbpro.com/wp-content/uploads/2026/03/2026mexicoPQ_071826.jpg
ORGANIZER;CN="CB Riley Productions":MAILTO:mexicosupershow@gmail.com
END:VEVENT
BEGIN:VEVENT
DTSTART;VALUE=DATE:20260724
DTEND;VALUE=DATE:20260727
DTSTAMP:20260419T155952
CREATED:20260309T162705Z
LAST-MODIFIED:20260309T172643Z
UID:23291-1784851200-1785110399@www.ifbbpro.com
SUMMARY:2026 Vancouver Pro Qualifier
DESCRIPTION:
URL:https://www.ifbbpro.com/competition/2026-vancouver-pro-qualifier/
LOCATION:Richmond\, Richmond\, British Columbia\, Canada
CATEGORIES:NPC Worldwide Pro Qualifier
ATTACH;FMTTYPE=image/jpeg:https://www.ifbbpro.com/wp-content/uploads/2026/03/2026vancouverPQ_072426.jpg
ORGANIZER;CN="Michelle Krack":MAILTO:info@vancouverproshow.com
END:VEVENT
BEGIN:VEVENT
DTSTART;VALUE=DATE:20260725
DTEND;VALUE=DATE:20260726
DTSTAMP:20260419T155952
CREATED:20260311T185312Z
LAST-MODIFIED:20260325T190435Z
UID:23354-1784937600-1785023999@www.ifbbpro.com
SUMMARY:2026 Huanji China Pro Qualifier
DESCRIPTION:
URL:https://www.ifbbpro.com/competition/2026-huanji-china-pro-qualifier/
LOCATION:Chengdu\, Chengdu\, China
CATEGORIES:NPC Worldwide Pro Qualifier
ATTACH;FMTTYPE=image/jpeg:https://www.ifbbpro.com/wp-content/uploads/2026/03/2026chinaPQ_072526-v3.jpg
ORGANIZER;CN="George Zhang":MAILTO:huanjichinapro@163.com
END:VEVENT
BEGIN:VEVENT
DTSTART;VALUE=DATE:20260801
DTEND;VALUE=DATE:20260802
DTSTAMP:20260419T155952
CREATED:20260311T183212Z
LAST-MODIFIED:20260311T183212Z
UID:23341-1785542400-1785628799@www.ifbbpro.com
SUMMARY:2026 Natural Canada Pro Qualifier
DESCRIPTION:
URL:https://www.ifbbpro.com/competition/2026-natural-canada-pro-qualifier/
LOCATION:Toronto\, Toronto\, Ontario\, Canada
CATEGORIES:NPC Worldwide Pro Qualifier
ATTACH;FMTTYPE=image/jpeg:https://www.ifbbpro.com/wp-content/uploads/2026/03/2026canadaNATPQ_080126.jpg
ORGANIZER;CN="Rudy Jambrosic":MAILTO:info@rudyproductions.ca
END:VEVENT
BEGIN:VEVENT
DTSTART;VALUE=DATE:20260814
DTEND;VALUE=DATE:20260817
DTSTAMP:20260419T155952
CREATED:20260311T183449Z
LAST-MODIFIED:20260311T183450Z
UID:23344-1786665600-1786924799@www.ifbbpro.com
SUMMARY:2026 Sud Americano Argentina Pro Qualifier
DESCRIPTION:
URL:https://www.ifbbpro.com/competition/2026-sud-americano-argentina-pro-qualifier/
LOCATION:Buenos Aires\, Buenos Aires\, Argentina
CATEGORIES:NPC Worldwide Pro Qualifier
ATTACH;FMTTYPE=image/jpeg:https://www.ifbbpro.com/wp-content/uploads/2026/03/2026argentinaPQ_081426.jpg
ORGANIZER;CN="Fernando Loreiro (Argentina)":MAILTO:info@fma-argentina.com.ar
END:VEVENT
BEGIN:VEVENT
DTSTART;VALUE=DATE:20260815
DTEND;VALUE=DATE:20260817
DTSTAMP:20260419T155952
CREATED:20260324T220948Z
LAST-MODIFIED:20260324T220948Z
UID:23514-1786752000-1786924799@www.ifbbpro.com
SUMMARY:2026 Pharlabs Mexico Grand Battle Pro Qualifier
DESCRIPTION:
URL:https://www.ifbbpro.com/competition/2026-pharlabs-mexico-grand-battle-pro-qualifier/
LOCATION:Monterrey\, Monterrey\, Mexico
CATEGORIES:NPC Worldwide Pro Qualifier
ATTACH;FMTTYPE=image/jpeg:https://www.ifbbpro.com/wp-content/uploads/2026/03/2026mexicoPQPRO_081526.jpg
ORGANIZER;CN="MGB":MAILTO:info@mexicograndbattle.com
END:VEVENT
BEGIN:VEVENT
DTSTART;VALUE=DATE:20260822
DTEND;VALUE=DATE:20260824
DTSTAMP:20260419T155952
CREATED:20260414T182649Z
LAST-MODIFIED:20260414T182650Z
UID:23648-1787356800-1787529599@www.ifbbpro.com
SUMMARY:2026 Austrian Oak Pro Qualifier
DESCRIPTION:
URL:https://www.ifbbpro.com/competition/2026-austrian-oak-pro-qualifier/
LOCATION:Vienna\, Vienna\, Austria
CATEGORIES:NPC Worldwide Pro Qualifier
ATTACH;FMTTYPE=image/jpeg:https://www.ifbbpro.com/wp-content/uploads/2026/03/2026austriaPRO_082226.jpg
ORGANIZER;CN="Harald Schober":MAILTO:h.schober@npcaustria.at
END:VEVENT
BEGIN:VEVENT
DTSTART;VALUE=DATE:20260829
DTEND;VALUE=DATE:20260831
DTSTAMP:20260419T155952
CREATED:20260311T185541Z
LAST-MODIFIED:20260418T153733Z
UID:23356-1787961600-1788134399@www.ifbbpro.com
SUMMARY:2026 Amateur Olympia Eastern Europe
DESCRIPTION:
URL:https://www.ifbbpro.com/competition/2026-amateur-olympia-eastern-europe/
LOCATION:Bucharest\, Bucharest\, Romania
CATEGORIES:NPC Worldwide Pro Qualifier
ATTACH;FMTTYPE=image/jpeg:https://www.ifbbpro.com/wp-content/uploads/2026/03/2026aoeasterneuroPQ_082926.jpg
ORGANIZER;CN="Alina Popa (AOEE)":MAILTO:alina@wingsofstrength.net
END:VEVENT
BEGIN:VEVENT
DTSTART;VALUE=DATE:20260902
DTEND;VALUE=DATE:20260906
DTSTAMP:20260419T155952
CREATED:20260319T164605Z
LAST-MODIFIED:20260319T164606Z
UID:23429-1788307200-1788652799@www.ifbbpro.com
SUMMARY:2026 North Americans Championships
DESCRIPTION:
URL:https://www.ifbbpro.com/competition/2026-north-americans-championships/
LOCATION:Pittsburgh\, Pittsburgh\, Pennsylvania
CATEGORIES:NPC Worldwide Pro Qualifier
ATTACH;FMTTYPE=image/jpeg:https://www.ifbbpro.com/wp-content/uploads/2026/03/2026northamericasPQ_090226.jpg
ORGANIZER;CN="Gary Udit":MAILTO:info@garyudit.com
END:VEVENT
BEGIN:VEVENT
DTSTART;VALUE=DATE:20260911
DTEND;VALUE=DATE:20260913
DTSTAMP:20260419T155952
CREATED:20260311T190112Z
LAST-MODIFIED:20260311T190113Z
UID:23359-1789084800-1789257599@www.ifbbpro.com
SUMMARY:2026 Amateur Olympia LatinoAmerica Pro Qualifier
DESCRIPTION:
URL:https://www.ifbbpro.com/competition/2026-amateur-olympia-latinoamerica-pro-qualifier/
LOCATION:Santo Domingo\, Santo Domingo\, Dominican Republic
CATEGORIES:NPC Worldwide Pro Qualifier
ATTACH;FMTTYPE=image/jpeg:https://www.ifbbpro.com/wp-content/uploads/2026/03/2026AOlatinamericanPQ_091126.jpg
ORGANIZER;CN="Maz Ali | Tamer El Guindy":MAILTO:bodyworx2008@hotmail.com
END:VEVENT
BEGIN:VEVENT
DTSTART;VALUE=DATE:20260912
DTEND;VALUE=DATE:20260913
DTSTAMP:20260419T155952
CREATED:20260324T194301Z
LAST-MODIFIED:20260324T194302Z
UID:23493-1789171200-1789257599@www.ifbbpro.com
SUMMARY:2026 Huanji China Pro Qualifier
DESCRIPTION:
URL:https://www.ifbbpro.com/competition/2026-huanji-china-pro-qualifier-2/
LOCATION:Xi’an\, Xi'an\, China
CATEGORIES:NPC Worldwide Pro Qualifier
ATTACH;FMTTYPE=image/jpeg:https://www.ifbbpro.com/wp-content/uploads/2026/03/2026huanjiPRO_091226-1.jpg
ORGANIZER;CN="George Zhang":MAILTO:huanjichinapro@163.com
END:VEVENT
BEGIN:VEVENT
DTSTART;VALUE=DATE:20260920
DTEND;VALUE=DATE:20260921
DTSTAMP:20260419T155952
CREATED:20260402T201235Z
LAST-MODIFIED:20260402T203603Z
UID:23575-1789862400-1789948799@www.ifbbpro.com
SUMMARY:2026 Turkey Pro Qualifier
DESCRIPTION:
URL:https://www.ifbbpro.com/competition/2026-turkey-pro-qualifier/
LOCATION:Izmir\, Ixmir\, Turkey
CATEGORIES:NPC Worldwide Pro Qualifier
ATTACH;FMTTYPE=image/jpeg:https://www.ifbbpro.com/wp-content/uploads/2026/04/2026turkeyPQPRO_092026-V2.jpg
ORGANIZER;CN="Mo Barakat | Expo Sport Izmir":MAILTO:mobarakat1026@gmail.com
END:VEVENT
BEGIN:VEVENT
DTSTART;VALUE=DATE:20260920
DTEND;VALUE=DATE:20260921
DTSTAMP:20260419T155952
CREATED:20260417T193009Z
LAST-MODIFIED:20260417T193009Z
UID:23748-1789862400-1789948799@www.ifbbpro.com
SUMMARY:2026 GASP Classic Sweden Pro Qualifier
DESCRIPTION:
URL:https://www.ifbbpro.com/competition/2026-gasp-classic-sweden-pro-qualifier/
LOCATION:Sodertalje\, Sodertalje\, Sweden
CATEGORIES:NPC Worldwide Pro Qualifier
ATTACH;FMTTYPE=image/jpeg:https://www.ifbbpro.com/wp-content/uploads/2026/04/2026swedenPQ_092026.jpg
ORGANIZER;CN="Hanne Gaines":MAILTO:hanne.gaines@swedishfitness.se
END:VEVENT
BEGIN:VEVENT
DTSTART;VALUE=DATE:20260926
DTEND;VALUE=DATE:20260928
DTSTAMP:20260419T155952
CREATED:20260419T173215Z
LAST-MODIFIED:20260419T173215Z
UID:23791-1790380800-1790553599@www.ifbbpro.com
SUMMARY:2026 Amateur Olympia South Korea Pro Qualifier
DESCRIPTION:
URL:https://www.ifbbpro.com/competition/2026-amateur-olympia-south-korea-pro-qualifier/
LOCATION:Seoul\, Seoul\, Korea\, Republic of
CATEGORIES:NPC Worldwide Pro Qualifier
ATTACH;FMTTYPE=image/jpeg:https://www.ifbbpro.com/wp-content/uploads/2026/04/2026AOkorea_092626.jpg
ORGANIZER;CN="Alex Hong (AO 092626)":MAILTO:info@ifbbprokorea.com
END:VEVENT
BEGIN:VEVENT
DTSTART;VALUE=DATE:20261003
DTEND;VALUE=DATE:20261004
DTSTAMP:20260419T155952
CREATED:20260311T190437Z
LAST-MODIFIED:20260311T190614Z
UID:23362-1790985600-1791071999@www.ifbbpro.com
SUMMARY:2026 Toulouse Pro Qualifier
DESCRIPTION:
URL:https://www.ifbbpro.com/competition/2026-toulouse-pro-qualifier/
LOCATION:Toulouse-Labege\, Toulouse-Labege\, France
CATEGORIES:NPC Worldwide Pro Qualifier
ATTACH;FMTTYPE=image/jpeg:https://www.ifbbpro.com/wp-content/uploads/2026/03/2026francePQ_100326.jpg
ORGANIZER;CN="Ron Hache (France)":MAILTO:ronhache@unitz.ca
END:VEVENT
BEGIN:VEVENT
DTSTART;VALUE=DATE:20261003
DTEND;VALUE=DATE:20261004
DTSTAMP:20260419T155952
CREATED:20260311T190919Z
LAST-MODIFIED:20260317T180406Z
UID:23365-1790985600-1791071999@www.ifbbpro.com
SUMMARY:2026 Canadian National Pro Qualifier
DESCRIPTION:
URL:https://www.ifbbpro.com/competition/2026-canadian-national-pro-qualifier/
LOCATION:Toronto\, Toronto\, Ontario\, Canada
CATEGORIES:NPC Worldwide Pro Qualifier
ATTACH;FMTTYPE=image/jpeg:https://www.ifbbpro.com/wp-content/uploads/2026/03/2026canadaPQ_100326.jpg
ORGANIZER;CN="Ron Hache":MAILTO:ronhache@unitz.ca
END:VEVENT
BEGIN:VEVENT
DTSTART;VALUE=DATE:20261010
DTEND;VALUE=DATE:20261012
DTSTAMP:20260419T155952
CREATED:20260417T003436Z
LAST-MODIFIED:20260417T003505Z
UID:23709-1791590400-1791763199@www.ifbbpro.com
SUMMARY:2026 Natural Champions Games Pro Qualifier
DESCRIPTION:
URL:https://www.ifbbpro.com/competition/2026-natural-champions-games/
LOCATION:Warsaw\, Warsaw\, Poland
CATEGORIES:NPC Worldwide Pro Qualifier
ATTACH;FMTTYPE=image/jpeg:https://www.ifbbpro.com/wp-content/uploads/2026/04/2026polandNATPQ_101026.jpg
ORGANIZER;CN="Robert Piotrkowicz":MAILTO:office@ifbbpro.pl
END:VEVENT
BEGIN:VEVENT
DTSTART;VALUE=DATE:20261017
DTEND;VALUE=DATE:20261018
DTSTAMP:20260419T155952
CREATED:20260311T191602Z
LAST-MODIFIED:20260311T191626Z
UID:23368-1792195200-1792281599@www.ifbbpro.com
SUMMARY:2026 Xtreme Natural Pro Qualifier (Canadian only)
DESCRIPTION:
URL:https://www.ifbbpro.com/competition/2026-xtreme-natural-pro-qualifier/
LOCATION:New Westminister\, New Westminister\, British Columbia\, Canada
CATEGORIES:NPC Worldwide Pro Qualifier
ATTACH;FMTTYPE=image/jpeg:https://www.ifbbpro.com/wp-content/uploads/2026/03/2026canadaPQ_101726.jpg
ORGANIZER;CN="Dean & Leigh Brandt":MAILTO:info@xtremepromotions.org
END:VEVENT
BEGIN:VEVENT
DTSTART;VALUE=DATE:20261018
DTEND;VALUE=DATE:20261019
DTSTAMP:20260419T155952
CREATED:20260311T191824Z
LAST-MODIFIED:20260311T191824Z
UID:23372-1792281600-1792367999@www.ifbbpro.com
SUMMARY:2026 Fitparade Hungary Pro Qualifier
DESCRIPTION:
URL:https://www.ifbbpro.com/competition/2026-fitparade-hungary-pro-qualifier/
LOCATION:Budapest\, Budapest\, Hungary
CATEGORIES:NPC Worldwide Pro Qualifier
ATTACH;FMTTYPE=image/jpeg:https://www.ifbbpro.com/wp-content/uploads/2026/03/2026fitparadePQ_101826.jpg
ORGANIZER;CN="Ildiko Buranits (FitParade)":MAILTO:office@fitparade.hu
END:VEVENT
BEGIN:VEVENT
DTSTART;VALUE=DATE:20261024
DTEND;VALUE=DATE:20261025
DTSTAMP:20260419T155952
CREATED:20260311T192118Z
LAST-MODIFIED:20260311T192119Z
UID:23375-1792800000-1792886399@www.ifbbpro.com
SUMMARY:2026 Tsunami Nutrition France Natural Pro Qualifier
DESCRIPTION:
URL:https://www.ifbbpro.com/competition/2026-tsunami-nutrition-france-natural-pro-qualifier/
LOCATION:Marseille\, Marseille\, France
CATEGORIES:NPC Worldwide Pro Qualifier
ATTACH;FMTTYPE=image/jpeg:https://www.ifbbpro.com/wp-content/uploads/2026/03/2026francePQ_102426.jpg
ORGANIZER;CN="Ron Hache (France)":MAILTO:ronhache@unitz.ca
END:VEVENT
BEGIN:VEVENT
DTSTART;VALUE=DATE:20261025
DTEND;VALUE=DATE:20261026
DTSTAMP:20260419T155952
CREATED:20260419T175237Z
LAST-MODIFIED:20260419T181852Z
UID:23798-1792886400-1792972799@www.ifbbpro.com
SUMMARY:2026 AGP Natural Pro Qualifier
DESCRIPTION:
URL:https://www.ifbbpro.com/competition/2026-agp-natural-pro-qualifier-2/
LOCATION:Paju City\, Paju City\, Korea\, Republic of
CATEGORIES:NPC Worldwide Pro Qualifier
ATTACH;FMTTYPE=image/jpeg:https://www.ifbbpro.com/wp-content/uploads/2026/04/2026agpNATPQ_102526.jpg
ORGANIZER;CN="Alex Hong (PQ 102526)":MAILTO:info@ifbbprokorea.com
END:VEVENT
BEGIN:VEVENT
DTSTART;VALUE=DATE:20261030
DTEND;VALUE=DATE:20261102
DTSTAMP:20260419T155952
CREATED:20260311T192357Z
LAST-MODIFIED:20260325T191712Z
UID:23378-1793318400-1793577599@www.ifbbpro.com
SUMMARY:2026 Euronaturals Spain Pro Qualifier
DESCRIPTION:
URL:https://www.ifbbpro.com/competition/2026-euronaturals-spain-pro-qualifier/
LOCATION:Madrid\, Madrid\, Spain
CATEGORIES:NPC Worldwide Pro Qualifier
ATTACH;FMTTYPE=image/jpeg:https://www.ifbbpro.com/wp-content/uploads/2026/03/2026euronaturalsPQ_103026.jpg
ORGANIZER;CN="Gabriel Opare (Euro Naturals)":MAILTO:info@npceuronaturals.com
END:VEVENT
BEGIN:VEVENT
DTSTART;VALUE=DATE:20261107
DTEND;VALUE=DATE:20261109
DTSTAMP:20260419T155952
CREATED:20260324T221502Z
LAST-MODIFIED:20260325T011844Z
UID:23516-1794009600-1794182399@www.ifbbpro.com
SUMMARY:2026 Pharlabs Mexican National Championships Pro Qualifier
DESCRIPTION:
URL:https://www.ifbbpro.com/competition/2026-pharlabs-mexican-national-championships-pro-qualifier/
LOCATION:Puebla\, Puebla\, Mexico
CATEGORIES:NPC Worldwide Pro Qualifier
ATTACH;FMTTYPE=image/jpeg:https://www.ifbbpro.com/wp-content/uploads/2026/03/2026mexiconationalPQ_110726.jpg
ORGANIZER;CN="M&M Promotions (Mexico)":MAILTO:Info@npcmexixannationals.com
END:VEVENT
BEGIN:VEVENT
DTSTART;VALUE=DATE:20261107
DTEND;VALUE=DATE:20261109
DTSTAMP:20260419T155952
CREATED:20260419T171858Z
LAST-MODIFIED:20260419T171859Z
UID:23785-1794009600-1794182399@www.ifbbpro.com
SUMMARY:2026 Romania Muscle Fest Pro Qualifier
DESCRIPTION:
URL:https://www.ifbbpro.com/competition/2026-romania-muscle-fest-pro-qualifier/
LOCATION:Bucharest\, Bucharest\, Romania
CATEGORIES:NPC Worldwide Pro Qualifier
ATTACH;FMTTYPE=image/jpeg:https://www.ifbbpro.com/wp-content/uploads/2026/04/2026romaniaPQPRO_110725-v2.jpg
ORGANIZER;CN="Alina Popa (RMF)":MAILTO:alina@wingsofstrength.net
END:VEVENT
BEGIN:VEVENT
DTSTART;VALUE=DATE:20261113
DTEND;VALUE=DATE:20261116
DTSTAMP:20260419T155952
CREATED:20260417T161203Z
LAST-MODIFIED:20260417T161204Z
UID:23746-1794528000-1794787199@www.ifbbpro.com
SUMMARY:2026 Ben Weider Natural Pro Qualifier
DESCRIPTION:
URL:https://www.ifbbpro.com/competition/2026-ben-weider-natural-pro-qualifier/
LOCATION:Alexandria\, Alexandria\, VA\, United States
CATEGORIES:NPC Worldwide Pro Qualifier
ATTACH;FMTTYPE=image/jpeg:https://www.ifbbpro.com/wp-content/uploads/2026/04/2026benweiderPQPRO_111326.jpg
ORGANIZER;CN="Gary Udit & Ron Hache":MAILTO:gary@garyudit.com
END:VEVENT
BEGIN:VEVENT
DTSTART;VALUE=DATE:20261121
DTEND;VALUE=DATE:20261122
DTSTAMP:20260419T155952
CREATED:20260416T185157Z
LAST-MODIFIED:20260416T185158Z
UID:23706-1795219200-1795305599@www.ifbbpro.com
SUMMARY:2026 Portugal Natural Pro Qualifier
DESCRIPTION:
URL:https://www.ifbbpro.com/competition/2026-portugal-natural-pro-qualifier/
LOCATION:Carcavelos\, Carcavelos\, Portugal
CATEGORIES:NPC Worldwide Pro Qualifier
ATTACH;FMTTYPE=image/jpeg:https://www.ifbbpro.com/wp-content/uploads/2026/04/2026portugalNATPQ_112126.jpg
ORGANIZER;CN="Mr. Big Evolution":MAILTO:ifbbproportugal@gmail.com
END:VEVENT
BEGIN:VEVENT
DTSTART;VALUE=DATE:20261128
DTEND;VALUE=DATE:20261129
DTSTAMP:20260419T155952
CREATED:20260324T194611Z
LAST-MODIFIED:20260324T194615Z
UID:23495-1795824000-1795910399@www.ifbbpro.com
SUMMARY:2026 Huanji China Natural Pro Qualifier
DESCRIPTION:
URL:https://www.ifbbpro.com/competition/2026-huanji-china-natural-pro-qualifier-2/
LOCATION:Hangzhou\, Hangzhou\, China
CATEGORIES:NPC Worldwide Pro Qualifier
ATTACH;FMTTYPE=image/jpeg:https://www.ifbbpro.com/wp-content/uploads/2026/03/2026huanjiNATPRO_112826.jpg
ORGANIZER;CN="George Zhang":MAILTO:huanjichinapro@163.com
END:VEVENT
BEGIN:VEVENT
DTSTART;VALUE=DATE:20261129
DTEND;VALUE=DATE:20261130
DTSTAMP:20260419T155952
CREATED:20260415T203410Z
LAST-MODIFIED:20260415T203443Z
UID:23701-1795910400-1795996799@www.ifbbpro.com
SUMMARY:2026 Bigman Spain Pro Qualifier
DESCRIPTION:
URL:https://www.ifbbpro.com/competition/2026-bigman-spain-pro-qualifier/
LOCATION:Alicante\, Alicante\, Spain
CATEGORIES:NPC Worldwide Pro Qualifier
ATTACH;FMTTYPE=image/jpeg:https://www.ifbbpro.com/wp-content/uploads/2026/03/2026spainPRO_112926.jpg
ORGANIZER;CN="Emilio Martinez (Bigman)":MAILTO:emilio@emiliomartinez.com
END:VEVENT
END:VCALENDAR