BEGIN:VCALENDAR
VERSION:2.0
PRODID:-//IFBB Pro - ECPv6.15.20//NONSGML v1.0//EN
CALSCALE:GREGORIAN
METHOD:PUBLISH
X-WR-CALNAME:IFBB Pro
X-ORIGINAL-URL:https://www.ifbbpro.com
X-WR-CALDESC:Events for IFBB Pro
REFRESH-INTERVAL;VALUE=DURATION:PT1H
X-Robots-Tag:noindex
X-PUBLISHED-TTL:PT1H
BEGIN:VTIMEZONE
TZID:America/Toronto
BEGIN:DAYLIGHT
TZOFFSETFROM:-0500
TZOFFSETTO:-0400
TZNAME:EDT
DTSTART:20250309T070000
END:DAYLIGHT
BEGIN:STANDARD
TZOFFSETFROM:-0400
TZOFFSETTO:-0500
TZNAME:EST
DTSTART:20251102T060000
END:STANDARD
BEGIN:DAYLIGHT
TZOFFSETFROM:-0500
TZOFFSETTO:-0400
TZNAME:EDT
DTSTART:20260308T070000
END:DAYLIGHT
BEGIN:STANDARD
TZOFFSETFROM:-0400
TZOFFSETTO:-0500
TZNAME:EST
DTSTART:20261101T060000
END:STANDARD
BEGIN:DAYLIGHT
TZOFFSETFROM:-0500
TZOFFSETTO:-0400
TZNAME:EDT
DTSTART:20270314T070000
END:DAYLIGHT
BEGIN:STANDARD
TZOFFSETFROM:-0400
TZOFFSETTO:-0500
TZNAME:EST
DTSTART:20271107T060000
END:STANDARD
END:VTIMEZONE
BEGIN:VEVENT
DTSTART;VALUE=DATE:20260213
DTEND;VALUE=DATE:20260215
DTSTAMP:20260420T041341
CREATED:20251219T125335Z
LAST-MODIFIED:20260118T202022Z
UID:21870-1770940800-1771113599@www.ifbbpro.com
SUMMARY:2026 Iraq Pro Qualifier
DESCRIPTION:
URL:https://www.ifbbpro.com/competition/2026-iraq-pro-qualifier/
LOCATION:Basra\, Basra\, Iraq
CATEGORIES:NPC Worldwide Pro Qualifier
ATTACH;FMTTYPE=image/jpeg:https://www.ifbbpro.com/wp-content/uploads/2025/12/2026iraqPQ_021326-v3.jpg
ORGANIZER;CN="Mo Barakat":MAILTO:mobarakat1026@gmail.com
END:VEVENT
BEGIN:VEVENT
DTSTART;VALUE=DATE:20260228
DTEND;VALUE=DATE:20260301
DTSTAMP:20260420T041341
CREATED:20251216T023451Z
LAST-MODIFIED:20251216T023451Z
UID:21797-1772236800-1772323199@www.ifbbpro.com
SUMMARY:2026 Musclecontest Japan Pro Qualifier
DESCRIPTION:
URL:https://www.ifbbpro.com/competition/2026-musclecontest-japan-pro-qualifier/
LOCATION:Tokyo\, Tokyo\, Japan
CATEGORIES:NPC Worldwide Pro Qualifier
ATTACH;FMTTYPE=image/jpeg:https://www.ifbbpro.com/wp-content/uploads/2025/12/2026japanPRO_022826-1.jpg
ORGANIZER;CN="Tamer El Guindy (International)":MAILTO:tamer@musclecontest.com
END:VEVENT
BEGIN:VEVENT
DTSTART;VALUE=DATE:20260305
DTEND;VALUE=DATE:20260309
DTSTAMP:20260420T041341
CREATED:20251216T023658Z
LAST-MODIFIED:20251216T023659Z
UID:21799-1772668800-1773014399@www.ifbbpro.com
SUMMARY:2026 Arnold Amateur USA Pro Qualifier
DESCRIPTION:
URL:https://www.ifbbpro.com/competition/2026-arnold-amateur-usa-pro-qualifier/
LOCATION:Columbus OH\, Columbus\, OH\, United States
CATEGORIES:NPC Worldwide Pro Qualifier
ATTACH;FMTTYPE=image/jpeg:https://www.ifbbpro.com/wp-content/uploads/2025/12/2026arnoldamateurPQ_030526.jpg
ORGANIZER;CN="Lloyd Davis (USA)":MAILTO:lloyd@arnoldsports.com
END:VEVENT
BEGIN:VEVENT
DTSTART;VALUE=DATE:20260411
DTEND;VALUE=DATE:20260412
DTSTAMP:20260420T041341
CREATED:20251230T200938Z
LAST-MODIFIED:20251230T200939Z
UID:22176-1775865600-1775951999@www.ifbbpro.com
SUMMARY:2026 tbJP Ben Weider Pro Qualifier
DESCRIPTION:
URL:https://www.ifbbpro.com/competition/2026-tbjp-ben-weider-pro-qualifier/
LOCATION:Bradford\, Bradford\, United Kingdom
CATEGORIES:NPC Worldwide Pro Qualifier
ATTACH;FMTTYPE=image/jpeg:https://www.ifbbpro.com/wp-content/uploads/2025/12/2026ukPQ_041126.jpg
ORGANIZER;CN="2 Bros Pros":MAILTO:info@2bpevents.com
END:VEVENT
BEGIN:VEVENT
DTSTART;VALUE=DATE:20260417
DTEND;VALUE=DATE:20260419
DTSTAMP:20260420T041341
CREATED:20260106T193432Z
LAST-MODIFIED:20260317T134057Z
UID:22357-1776384000-1776556799@www.ifbbpro.com
SUMMARY:2026 FIBO Germany Pro Qualifier
DESCRIPTION:
URL:https://www.ifbbpro.com/competition/2026-fibo-germany-pro-qualifier/
LOCATION:Cologne\, Cologne\, Germany
CATEGORIES:NPC Worldwide Pro Qualifier
ATTACH;FMTTYPE=image/jpeg:https://www.ifbbpro.com/wp-content/uploads/2026/01/FIBO_041726.jpg
ORGANIZER;CN="Jens Thieme & Michael Kohler":MAILTO:Jens.Thieme@rxglobal.com
END:VEVENT
BEGIN:VEVENT
DTSTART;VALUE=DATE:20260424
DTEND;VALUE=DATE:20260427
DTSTAMP:20260420T041341
CREATED:20260102T164554Z
LAST-MODIFIED:20260102T190125Z
UID:22250-1776988800-1777247999@www.ifbbpro.com
SUMMARY:2026 Arnold Amateur South America Pro Qualifier
DESCRIPTION:
URL:https://www.ifbbpro.com/competition/2026-arnold-amateur-south-america-pro-qualifier/
LOCATION:Sao Paulo\, Sao Paulo\, Brazil
CATEGORIES:NPC Worldwide Pro Qualifier
ATTACH;FMTTYPE=image/jpeg:https://www.ifbbpro.com/wp-content/uploads/2026/01/2026arnoldsouthamericaPROPQ_042426.jpg
ORGANIZER;CN="Tamer El Guindy (International)":MAILTO:tamer@musclecontest.com
END:VEVENT
BEGIN:VEVENT
DTSTART;VALUE=DATE:20260425
DTEND;VALUE=DATE:20260426
DTSTAMP:20260420T041341
CREATED:20251227T173330Z
LAST-MODIFIED:20251227T173747Z
UID:22138-1777075200-1777161599@www.ifbbpro.com
SUMMARY:2026 Oksana Grishina International Classic Pro Qualifier
DESCRIPTION:
URL:https://www.ifbbpro.com/competition/2026-oksana-grishina-international-classic-pro-qualifier/
LOCATION:Moscow\, Moscow\, Russian Federation
CATEGORIES:NPC Worldwide Pro Qualifier
ATTACH;FMTTYPE=image/jpeg:https://www.ifbbpro.com/wp-content/uploads/2025/12/2026russiaPQ_042526.jpg
ORGANIZER;CN="Oksana Grishina":MAILTO:grishinaksusha@yahoo.com
END:VEVENT
BEGIN:VEVENT
DTSTART;VALUE=DATE:20260426
DTEND;VALUE=DATE:20260427
DTSTAMP:20260420T041341
CREATED:20251227T173940Z
LAST-MODIFIED:20251227T174808Z
UID:22142-1777161600-1777247999@www.ifbbpro.com
SUMMARY:2026 Mr Big Evolution Pro Qualifier
DESCRIPTION:
URL:https://www.ifbbpro.com/competition/2026-mr-big-evolution-pro-qualifier/
LOCATION:Lisbon\, Lisbon\, Portugal
CATEGORIES:NPC Worldwide Pro Qualifier
ATTACH;FMTTYPE=image/jpeg:https://www.ifbbpro.com/wp-content/uploads/2025/12/2026portugalPQ_042626.jpg
ORGANIZER;CN="Mr. Big Evolution":MAILTO:ifbbproportugal@gmail.com
END:VEVENT
BEGIN:VEVENT
DTSTART;VALUE=DATE:20260502
DTEND;VALUE=DATE:20260504
DTSTAMP:20260420T041341
CREATED:20260216T215216Z
LAST-MODIFIED:20260220T134042Z
UID:22914-1777680000-1777852799@www.ifbbpro.com
SUMMARY:2026 Mongolia Pro Qualifier
DESCRIPTION:
URL:https://www.ifbbpro.com/competition/2026-mongolia-pro-qualifier/
LOCATION:Ulaanbaatar\, Ulaanbaatar\, Mongolia
CATEGORIES:NPC Worldwide Pro Qualifier
ATTACH;FMTTYPE=image/jpeg:https://www.ifbbpro.com/wp-content/uploads/2026/02/2026mongoliaPQ_050226-v2.jpg
ORGANIZER;CN="Sungyeob Steve Kim":MAILTO:contact@monsterzym.com
END:VEVENT
BEGIN:VEVENT
DTSTART;VALUE=DATE:20260503
DTEND;VALUE=DATE:20260504
DTSTAMP:20260420T041341
CREATED:20260106T022247Z
LAST-MODIFIED:20260106T022247Z
UID:22345-1777766400-1777852799@www.ifbbpro.com
SUMMARY:2026 Ben Weider Worldwide Classic Spain Pro Qualifier
DESCRIPTION:
URL:https://www.ifbbpro.com/competition/2026-ben-weider-worldwide-classic-spain-pro-qualifier/
LOCATION:Alicante\, Alicante\, Spain
CATEGORIES:NPC Worldwide Pro Qualifier
ATTACH;FMTTYPE=image/jpeg:https://www.ifbbpro.com/wp-content/uploads/2026/01/2026spainPQ_050326.jpg
ORGANIZER;CN="Emilio Martinez (Ben Weider Worldwide Classic)":MAILTO:emilio@emiliomartinez.com
END:VEVENT
BEGIN:VEVENT
DTSTART;VALUE=DATE:20260503
DTEND;VALUE=DATE:20260504
DTSTAMP:20260420T041341
CREATED:20260107T162534Z
LAST-MODIFIED:20260107T162535Z
UID:22389-1777766400-1777852799@www.ifbbpro.com
SUMMARY:2026 Australian Amateur Grand Prix Pro Qualifier
DESCRIPTION:
URL:https://www.ifbbpro.com/competition/2026-australian-amateur-grand-prix-pro-qualifier/
LOCATION:Melbourne\, Melbourne\, Australia
CATEGORIES:NPC Worldwide Pro Qualifier
ATTACH;FMTTYPE=image/jpeg:https://www.ifbbpro.com/wp-content/uploads/2026/01/2026australiaPQ_050326.jpg
ORGANIZER;CN="Tony Doherty":MAILTO:tony@ifbbproleague.com.au
END:VEVENT
BEGIN:VEVENT
DTSTART;VALUE=DATE:20260509
DTEND;VALUE=DATE:20260511
DTSTAMP:20260420T041341
CREATED:20260114T204237Z
LAST-MODIFIED:20260114T204238Z
UID:22495-1778284800-1778457599@www.ifbbpro.com
SUMMARY:2026 Tunisian Pro Qualifier
DESCRIPTION:
URL:https://www.ifbbpro.com/competition/2026-tunisian-pro-qualifier/
LOCATION:Tunis\, Tunis\, Tunisia
CATEGORIES:NPC Worldwide Pro Qualifier
ATTACH;FMTTYPE=image/jpeg:https://www.ifbbpro.com/wp-content/uploads/2026/01/2026tunisiaPQ_050926.jpg
ORGANIZER;CN="Mo Barakat":MAILTO:mobarakat1026@gmail.com
END:VEVENT
BEGIN:VEVENT
DTSTART;VALUE=DATE:20260510
DTEND;VALUE=DATE:20260511
DTSTAMP:20260420T041341
CREATED:20260105T204839Z
LAST-MODIFIED:20260105T204840Z
UID:22322-1778371200-1778457599@www.ifbbpro.com
SUMMARY:2026 Sweden Pro Qualifier
DESCRIPTION:
URL:https://www.ifbbpro.com/competition/2026-sweden-pro-qualifier/
LOCATION:Sodertalje\, Sodertalje\, Sweden
CATEGORIES:NPC Worldwide Pro Qualifier
ATTACH;FMTTYPE=image/jpeg:https://www.ifbbpro.com/wp-content/uploads/2026/01/2026swedenPQ_051026.jpg
ORGANIZER;CN="Hanne Gaines":MAILTO:hanne.gaines@swedishfitness.se
END:VEVENT
BEGIN:VEVENT
DTSTART;VALUE=DATE:20260516
DTEND;VALUE=DATE:20260518
DTSTAMP:20260420T041341
CREATED:20260101T141337Z
LAST-MODIFIED:20260325T165634Z
UID:22216-1778889600-1779062399@www.ifbbpro.com
SUMMARY:2026 Pittsburgh Natural Pro Qualifier
DESCRIPTION:
URL:https://www.ifbbpro.com/competition/2026-pittsburgh-natural-pro-qualifier/
LOCATION:Pittsburgh\, Pittsburgh\, Pennsylvania
CATEGORIES:NPC Worldwide Pro Qualifier
ATTACH;FMTTYPE=image/jpeg:https://www.ifbbpro.com/wp-content/uploads/2026/01/2026pittsburghNATPQ_051626-1.jpg
ORGANIZER;CN="Jim Manion & Tyler Manion (PPFF)":MAILTO:npcfirst@npcregistration.com
END:VEVENT
BEGIN:VEVENT
DTSTART;VALUE=DATE:20260522
DTEND;VALUE=DATE:20260525
DTSTAMP:20260420T041341
CREATED:20260212T134037Z
LAST-MODIFIED:20260212T134037Z
UID:22789-1779408000-1779667199@www.ifbbpro.com
SUMMARY:2026 Marrakech Pro Qualifier
DESCRIPTION:Open Pro Qualifier (6 pro cards)\nNatural Pro Qualifier (3 pro cards) \nMen’s Bodybuilding\nMen’s Classic Physique\nMen’s Physique
URL:https://www.ifbbpro.com/competition/2026-marrakech-pro-qualifier/
LOCATION:Marrakesh\, Marrakesh\, Morocco
CATEGORIES:NPC Worldwide Pro Qualifier
ATTACH;FMTTYPE=image/jpeg:https://www.ifbbpro.com/wp-content/uploads/2026/02/2026moroccoPROPQNATPQ_052226.jpg
ORGANIZER;CN="Mo Barakat | Morad Zahir | Mehdi Abbad":MAILTO:mobarakat1026@gmail.com
END:VEVENT
BEGIN:VEVENT
DTSTART;VALUE=DATE:20260523
DTEND;VALUE=DATE:20260524
DTSTAMP:20260420T041341
CREATED:20251227T175025Z
LAST-MODIFIED:20251227T175735Z
UID:22145-1779494400-1779580799@www.ifbbpro.com
SUMMARY:2026 AGP Pro Qualifier
DESCRIPTION:
URL:https://www.ifbbpro.com/competition/2026-agp-pro-qualifier/
LOCATION:Paju City\, Paju City\, Korea\, Republic of
CATEGORIES:NPC Worldwide Pro Qualifier
ATTACH;FMTTYPE=image/jpeg:https://www.ifbbpro.com/wp-content/uploads/2025/12/2026agpPQ_052326.jpg
ORGANIZER;CN="Alex Hong (PQ 052326)":MAILTO:info@ifbbprokorea.com
END:VEVENT
BEGIN:VEVENT
DTSTART;VALUE=DATE:20260524
DTEND;VALUE=DATE:20260525
DTSTAMP:20260420T041341
CREATED:20251227T175139Z
LAST-MODIFIED:20260418T024440Z
UID:22148-1779580800-1779667199@www.ifbbpro.com
SUMMARY:2026 AGP Natural Pro Qualifier
DESCRIPTION:
URL:https://www.ifbbpro.com/competition/2026-agp-natural-pro-qualifier/
LOCATION:Paju City\, Paju City\, Korea\, Republic of
CATEGORIES:NPC Worldwide Pro Qualifier
ATTACH;FMTTYPE=image/jpeg:https://www.ifbbpro.com/wp-content/uploads/2025/12/2026agpNATPQ_052426.jpg
ORGANIZER;CN="Alex Hong (NPQ 052426)":MAILTO:info@ifbbprokorea.com
END:VEVENT
BEGIN:VEVENT
DTSTART;VALUE=DATE:20260524
DTEND;VALUE=DATE:20260525
DTSTAMP:20260420T041341
CREATED:20260215T231639Z
LAST-MODIFIED:20260215T231639Z
UID:22893-1779580800-1779667199@www.ifbbpro.com
SUMMARY:2026 Champions Cup Pro Qualifier
DESCRIPTION:
URL:https://www.ifbbpro.com/competition/2026-champions-cup-pro-qualifier-2/
LOCATION:Warsaw\, Warsaw\, Poland
CATEGORIES:NPC Worldwide Pro Qualifier
ATTACH;FMTTYPE=image/jpeg:https://www.ifbbpro.com/wp-content/uploads/2026/02/2026polandPQ_052426.jpg
ORGANIZER;CN="Robert Piotrkowicz":MAILTO:office@ifbbpro.pl
END:VEVENT
BEGIN:VEVENT
DTSTART;VALUE=DATE:20260530
DTEND;VALUE=DATE:20260531
DTSTAMP:20260420T041341
CREATED:20260102T175641Z
LAST-MODIFIED:20260102T175642Z
UID:22261-1780099200-1780185599@www.ifbbpro.com
SUMMARY:2026 Musclecontest Ireland Pro Qualifier
DESCRIPTION:
URL:https://www.ifbbpro.com/competition/2026-musclecontest-ireland-pro-qualifier/
LOCATION:Dublin\, Dublin\, Ireland
CATEGORIES:NPC Worldwide Pro Qualifier
ATTACH;FMTTYPE=image/jpeg:https://www.ifbbpro.com/wp-content/uploads/2025/12/2026irelandPROPQ_053026-v2.jpg
ORGANIZER;CN="Tamer El Guindy (International)":MAILTO:tamer@musclecontest.com
END:VEVENT
BEGIN:VEVENT
DTSTART;VALUE=DATE:20260606
DTEND;VALUE=DATE:20260608
DTSTAMP:20260420T041341
CREATED:20260107T175445Z
LAST-MODIFIED:20260325T170111Z
UID:22410-1780704000-1780876799@www.ifbbpro.com
SUMMARY:2026 Amateur Olympia Spain Pro Qualifier
DESCRIPTION:
URL:https://www.ifbbpro.com/competition/2026-amateur-olympia-spain-pro-qualifier/
LOCATION:Alicante\, Alicante\, Spain
CATEGORIES:NPC Worldwide Pro Qualifier
ATTACH;FMTTYPE=image/jpeg:https://www.ifbbpro.com/wp-content/uploads/2026/01/226aospainPQ_060625.jpg
ORGANIZER;CN="Emilio Martinez":MAILTO:emilio@emiliomartinez.com
END:VEVENT
BEGIN:VEVENT
DTSTART;VALUE=DATE:20260612
DTEND;VALUE=DATE:20260615
DTSTAMP:20260420T041341
CREATED:20260303T190528Z
LAST-MODIFIED:20260417T125701Z
UID:23053-1781222400-1781481599@www.ifbbpro.com
SUMMARY:2026 India Pro Qualifier
DESCRIPTION:
URL:https://www.ifbbpro.com/competition/2026-india-pro-qualifier/
LOCATION:New Delhi\, New Delhi\, India
CATEGORIES:NPC Worldwide Pro Qualifier
ATTACH;FMTTYPE=image/jpeg:https://www.ifbbpro.com/wp-content/uploads/2026/03/2026indiaPQ_061226.jpg
ORGANIZER;CN="Sheru Aangrish":MAILTO:sheru@sheruclassic.com
END:VEVENT
BEGIN:VEVENT
DTSTART;VALUE=DATE:20260613
DTEND;VALUE=DATE:20260614
DTSTAMP:20260420T041341
CREATED:20260108T160441Z
LAST-MODIFIED:20260126T230517Z
UID:22426-1781308800-1781395199@www.ifbbpro.com
SUMMARY:2026 Toronto Pro Qualifier
DESCRIPTION:
URL:https://www.ifbbpro.com/competition/2026-toronto-pro-qualifier/
LOCATION:Toronto\, Toronto\, Ontario\, Canada
CATEGORIES:NPC Worldwide Pro Qualifier
ATTACH;FMTTYPE=image/jpeg:https://www.ifbbpro.com/wp-content/uploads/2026/01/2026torontoPQ_061326-1.jpg
ORGANIZER;CN="Ron Hache":MAILTO:ronhache@unitz.ca
END:VEVENT
BEGIN:VEVENT
DTSTART;VALUE=DATE:20260613
DTEND;VALUE=DATE:20260615
DTSTAMP:20260420T041341
CREATED:20260215T231303Z
LAST-MODIFIED:20260216T160517Z
UID:22890-1781308800-1781481599@www.ifbbpro.com
SUMMARY:2026 Champions Classic Pro Qualifier
DESCRIPTION:
URL:https://www.ifbbpro.com/competition/2026-champions-classic-pro-qualifier/
LOCATION:Warsaw\, Warsaw\, Poland
CATEGORIES:NPC Worldwide Pro Qualifier
ATTACH;FMTTYPE=image/jpeg:https://www.ifbbpro.com/wp-content/uploads/2026/02/152026polandPQ_061326-v2.jpg
ORGANIZER;CN="Robert Piotrkowicz":MAILTO:office@ifbbpro.pl
END:VEVENT
BEGIN:VEVENT
DTSTART;VALUE=DATE:20260613
DTEND;VALUE=DATE:20260615
DTSTAMP:20260420T041341
CREATED:20260217T183214Z
LAST-MODIFIED:20260217T183356Z
UID:22933-1781308800-1781481599@www.ifbbpro.com
SUMMARY:2026 Georgia Pro Qualifier
DESCRIPTION:
URL:https://www.ifbbpro.com/competition/2026-georgia-pro-qualifier/
LOCATION:Batumi\, Batumi\, Georgia
CATEGORIES:NPC Worldwide Pro Qualifier
ATTACH;FMTTYPE=image/jpeg:https://www.ifbbpro.com/wp-content/uploads/2026/02/2026georgiaPQ_061326.jpg
ORGANIZER;CN="Mo Barakat & Sarkees Karakashian":MAILTO:mobarakat1026@gmail.com
END:VEVENT
BEGIN:VEVENT
DTSTART;VALUE=DATE:20260619
DTEND;VALUE=DATE:20260621
DTSTAMP:20260420T041341
CREATED:20260107T163619Z
LAST-MODIFIED:20260325T171453Z
UID:22400-1781827200-1781999999@www.ifbbpro.com
SUMMARY:2026 Huanji China Natural Pro Qualifier
DESCRIPTION:
URL:https://www.ifbbpro.com/competition/2026-huanji-china-natural-pro-qualifier/
LOCATION:Beijing\, Beijing\, China
CATEGORIES:NPC Worldwide Pro Qualifier
ATTACH;FMTTYPE=image/jpeg:https://www.ifbbpro.com/wp-content/uploads/2026/01/2026chinaNATPQ_061926-v3.jpg
ORGANIZER;CN="George Zhang":MAILTO:huanjichinapro@163.com
END:VEVENT
BEGIN:VEVENT
DTSTART;VALUE=DATE:20260620
DTEND;VALUE=DATE:20260621
DTSTAMP:20260420T041341
CREATED:20260107T175217Z
LAST-MODIFIED:20260325T171758Z
UID:22407-1781913600-1781999999@www.ifbbpro.com
SUMMARY:2026 Empro Classic Spain Pro Qualifier
DESCRIPTION:
URL:https://www.ifbbpro.com/competition/2026-empro-classic-spain-pro-qualifier/
LOCATION:Alicante\, Alicante\, Spain
CATEGORIES:NPC Worldwide Pro Qualifier
ATTACH;FMTTYPE=image/jpeg:https://www.ifbbpro.com/wp-content/uploads/2026/01/2026spainPQ_062026-1.jpg
ORGANIZER;CN="Emilio Martinez":MAILTO:emilio@emiliomartinez.com
END:VEVENT
BEGIN:VEVENT
DTSTART;VALUE=DATE:20260621
DTEND;VALUE=DATE:20260622
DTSTAMP:20260420T041341
CREATED:20260106T014817Z
LAST-MODIFIED:20260106T015024Z
UID:22342-1782000000-1782086399@www.ifbbpro.com
SUMMARY:2026 Thailand Pro Qualifier
DESCRIPTION:
URL:https://www.ifbbpro.com/competition/2026-thailand-pro-qualifier/
LOCATION:Pattaya\, Pattaya\, Thailand
CATEGORIES:NPC Worldwide Pro Qualifier
ATTACH;FMTTYPE=image/jpeg:https://www.ifbbpro.com/wp-content/uploads/2026/01/2026thailandPQ_062126.jpg
ORGANIZER;CN="Moe Elmoussawi (Thailand)":MAILTO:ifbbproleaguethailand@gmail.com
END:VEVENT
BEGIN:VEVENT
DTSTART;VALUE=DATE:20260626
DTEND;VALUE=DATE:20260628
DTSTAMP:20260420T041341
CREATED:20260109T161457Z
LAST-MODIFIED:20260109T161559Z
UID:22455-1782432000-1782604799@www.ifbbpro.com
SUMMARY:2026 Algeria Pro Qualifier
DESCRIPTION:
URL:https://www.ifbbpro.com/competition/2026-algeria-pro-qualifier/
LOCATION:Oran\, Oran\, Algeria
CATEGORIES:NPC Worldwide Pro Qualifier
ATTACH;FMTTYPE=image/jpeg:https://www.ifbbpro.com/wp-content/uploads/2026/01/2026algeriaPQ_062626.jpg
ORGANIZER;CN="Mo Barakat":MAILTO:mobarakat1026@gmail.com
END:VEVENT
BEGIN:VEVENT
DTSTART;VALUE=DATE:20260627
DTEND;VALUE=DATE:20260628
DTSTAMP:20260420T041341
CREATED:20260311T175730Z
LAST-MODIFIED:20260311T175924Z
UID:23321-1782518400-1782604799@www.ifbbpro.com
SUMMARY:2026 Japan Pro Qualifier
DESCRIPTION:
URL:https://www.ifbbpro.com/competition/2026-japan-pro-qualifier/
LOCATION:Tokyo\, Tokyo\, Japan
CATEGORIES:NPC Worldwide Pro Qualifier
ATTACH;FMTTYPE=image/jpeg:https://www.ifbbpro.com/wp-content/uploads/2026/03/2026japanPQ_062726.jpg
ORGANIZER;CN="Sally Sasaki":MAILTO:info@zenixjp.com
END:VEVENT
BEGIN:VEVENT
DTSTART;VALUE=DATE:20260627
DTEND;VALUE=DATE:20260629
DTSTAMP:20260420T041341
CREATED:20260102T171413Z
LAST-MODIFIED:20260102T171413Z
UID:22253-1782518400-1782691199@www.ifbbpro.com
SUMMARY:2026 FLEX Weekend Italy Pro Qualifier
DESCRIPTION:
URL:https://www.ifbbpro.com/competition/2026-flex-weekend-italy-pro-qualifier/
LOCATION:Milan\, Milan\, Italy
CATEGORIES:NPC Worldwide Pro Qualifier
ATTACH;FMTTYPE=image/jpeg:https://www.ifbbpro.com/wp-content/uploads/2026/01/2026italyPQ_062726.jpg
ORGANIZER;CN="Barbara Bagnuolo":MAILTO:bb.ifbbproitaly@gmail.com
END:VEVENT
END:VCALENDAR