BEGIN:VCALENDAR
VERSION:2.0
PRODID:-//IFBB Pro - ECPv6.15.20//NONSGML v1.0//EN
CALSCALE:GREGORIAN
METHOD:PUBLISH
X-WR-CALNAME:IFBB Pro
X-ORIGINAL-URL:https://www.ifbbpro.com
X-WR-CALDESC:Events for IFBB Pro
REFRESH-INTERVAL;VALUE=DURATION:PT1H
X-Robots-Tag:noindex
X-PUBLISHED-TTL:PT1H
BEGIN:VTIMEZONE
TZID:America/Toronto
BEGIN:DAYLIGHT
TZOFFSETFROM:-0500
TZOFFSETTO:-0400
TZNAME:EDT
DTSTART:20250309T070000
END:DAYLIGHT
BEGIN:STANDARD
TZOFFSETFROM:-0400
TZOFFSETTO:-0500
TZNAME:EST
DTSTART:20251102T060000
END:STANDARD
BEGIN:DAYLIGHT
TZOFFSETFROM:-0500
TZOFFSETTO:-0400
TZNAME:EDT
DTSTART:20260308T070000
END:DAYLIGHT
BEGIN:STANDARD
TZOFFSETFROM:-0400
TZOFFSETTO:-0500
TZNAME:EST
DTSTART:20261101T060000
END:STANDARD
BEGIN:DAYLIGHT
TZOFFSETFROM:-0500
TZOFFSETTO:-0400
TZNAME:EDT
DTSTART:20270314T070000
END:DAYLIGHT
BEGIN:STANDARD
TZOFFSETFROM:-0400
TZOFFSETTO:-0500
TZNAME:EST
DTSTART:20271107T060000
END:STANDARD
END:VTIMEZONE
BEGIN:VEVENT
DTSTART;VALUE=DATE:20260619
DTEND;VALUE=DATE:20260621
DTSTAMP:20260419T153531
CREATED:20260107T163619Z
LAST-MODIFIED:20260325T171453Z
UID:22400-1781827200-1781999999@www.ifbbpro.com
SUMMARY:2026 Huanji China Natural Pro Qualifier
DESCRIPTION:
URL:https://www.ifbbpro.com/competition/2026-huanji-china-natural-pro-qualifier/
LOCATION:Beijing\, Beijing\, China
CATEGORIES:NPC Worldwide Pro Qualifier
ATTACH;FMTTYPE=image/jpeg:https://www.ifbbpro.com/wp-content/uploads/2026/01/2026chinaNATPQ_061926-v3.jpg
ORGANIZER;CN="George Zhang":MAILTO:huanjichinapro@163.com
END:VEVENT
BEGIN:VEVENT
DTSTART;VALUE=DATE:20260620
DTEND;VALUE=DATE:20260621
DTSTAMP:20260419T153531
CREATED:20260107T175217Z
LAST-MODIFIED:20260325T171758Z
UID:22407-1781913600-1781999999@www.ifbbpro.com
SUMMARY:2026 Empro Classic Spain Pro Qualifier
DESCRIPTION:
URL:https://www.ifbbpro.com/competition/2026-empro-classic-spain-pro-qualifier/
LOCATION:Alicante\, Alicante\, Spain
CATEGORIES:NPC Worldwide Pro Qualifier
ATTACH;FMTTYPE=image/jpeg:https://www.ifbbpro.com/wp-content/uploads/2026/01/2026spainPQ_062026-1.jpg
ORGANIZER;CN="Emilio Martinez":MAILTO:emilio@emiliomartinez.com
END:VEVENT
END:VCALENDAR