BEGIN:VCALENDAR
VERSION:2.0
PRODID:-//IFBB Pro - ECPv6.15.20//NONSGML v1.0//EN
CALSCALE:GREGORIAN
METHOD:PUBLISH
X-WR-CALNAME:IFBB Pro
X-ORIGINAL-URL:https://www.ifbbpro.com
X-WR-CALDESC:Events for IFBB Pro
REFRESH-INTERVAL;VALUE=DURATION:PT1H
X-Robots-Tag:noindex
X-PUBLISHED-TTL:PT1H
BEGIN:VTIMEZONE
TZID:America/Toronto
BEGIN:DAYLIGHT
TZOFFSETFROM:-0500
TZOFFSETTO:-0400
TZNAME:EDT
DTSTART:20240310T070000
END:DAYLIGHT
BEGIN:STANDARD
TZOFFSETFROM:-0400
TZOFFSETTO:-0500
TZNAME:EST
DTSTART:20241103T060000
END:STANDARD
BEGIN:DAYLIGHT
TZOFFSETFROM:-0500
TZOFFSETTO:-0400
TZNAME:EDT
DTSTART:20250309T070000
END:DAYLIGHT
BEGIN:STANDARD
TZOFFSETFROM:-0400
TZOFFSETTO:-0500
TZNAME:EST
DTSTART:20251102T060000
END:STANDARD
BEGIN:DAYLIGHT
TZOFFSETFROM:-0500
TZOFFSETTO:-0400
TZNAME:EDT
DTSTART:20260308T070000
END:DAYLIGHT
BEGIN:STANDARD
TZOFFSETFROM:-0400
TZOFFSETTO:-0500
TZNAME:EST
DTSTART:20261101T060000
END:STANDARD
END:VTIMEZONE
BEGIN:VEVENT
DTSTART;VALUE=DATE:20251101
DTEND;VALUE=DATE:20251102
DTSTAMP:20260420T022051
CREATED:20250115T132218Z
LAST-MODIFIED:20251009T020051Z
UID:17373-1761955200-1762041599@www.ifbbpro.com
SUMMARY:2025 Invictus Pro Qualifier
DESCRIPTION:
URL:https://www.ifbbpro.com/competition/2025-invictus-pro-qualifier/
LOCATION:Almaty\, Almaty\, Kazakhstan
CATEGORIES:NPC Worldwide Pro Qualifier
ATTACH;FMTTYPE=image/jpeg:https://www.ifbbpro.com/wp-content/uploads/2025/01/2025kazakhstanPQPROv2_110125.jpg
ORGANIZER;CN="Chris Minnes (Tahoe)":MAILTO:events@centerpodium.com
END:VEVENT
BEGIN:VEVENT
DTSTART;VALUE=DATE:20251101
DTEND;VALUE=DATE:20251103
DTSTAMP:20260420T022051
CREATED:20251015T154348Z
LAST-MODIFIED:20251015T154611Z
UID:21004-1761955200-1762127999@www.ifbbpro.com
SUMMARY:2025 Tunisia Pro Qualifier
DESCRIPTION:
URL:https://www.ifbbpro.com/competition/2025-tunisia-pro-qualifier-2/
LOCATION:Tunis\, Tunis\, Tunisia
CATEGORIES:NPC Worldwide Pro Qualifier
ATTACH;FMTTYPE=image/jpeg:https://www.ifbbpro.com/wp-content/uploads/2025/10/2025tunisiaPQ_110125.jpg
ORGANIZER;CN="Mo Barakat | Fawzi Sabii":MAILTO:mobarakat1026@gmail.com | tunisianpro9@gmail.com
END:VEVENT
BEGIN:VEVENT
DTSTART;VALUE=DATE:20251101
DTEND;VALUE=DATE:20251103
DTSTAMP:20260420T022051
CREATED:20250112T182941Z
LAST-MODIFIED:20250112T182941Z
UID:17265-1761955200-1762127999@www.ifbbpro.com
SUMMARY:2025 Champions Golden Cup Poland Pro Qualifier
DESCRIPTION:
URL:https://www.ifbbpro.com/competition/2025-champions-golden-cup-poland-pro-qualifier/
LOCATION:Warsaw\, Warsaw\, Poland
CATEGORIES:NPC Worldwide Pro Qualifier
ATTACH;FMTTYPE=image/jpeg:https://www.ifbbpro.com/wp-content/uploads/2025/01/2025polandPQ_110225.jpg
ORGANIZER;CN="Robert Piotrkowicz":MAILTO:office@ifbbpro.pl
END:VEVENT
BEGIN:VEVENT
DTSTART;VALUE=DATE:20251102
DTEND;VALUE=DATE:20251103
DTSTAMP:20260420T022051
CREATED:20250802T161726Z
LAST-MODIFIED:20250802T172107Z
UID:19991-1762041600-1762127999@www.ifbbpro.com
SUMMARY:2025 Musclecontest Vietnam Pro Qualifier
DESCRIPTION:
URL:https://www.ifbbpro.com/competition/2025-musclecontest-vietnam-pro-qualifier/
LOCATION:Ho Chi Minh City\, Ho Chi Minh City\, Viet Nam
CATEGORIES:NPC Worldwide Pro Qualifier
ATTACH;FMTTYPE=image/jpeg:https://www.ifbbpro.com/wp-content/uploads/2025/08/2025vietnamPQPRO_110225.jpg
ORGANIZER;CN="Tamer El Guindy (International)":MAILTO:tamer@musclecontest.com
END:VEVENT
BEGIN:VEVENT
DTSTART;VALUE=DATE:20251108
DTEND;VALUE=DATE:20251109
DTSTAMP:20260420T022051
CREATED:20250117T171411Z
LAST-MODIFIED:20250905T192606Z
UID:17418-1762560000-1762646399@www.ifbbpro.com
SUMMARY:2025 Caribbean Grand Prix Bahamas Pro Qualifier
DESCRIPTION:
URL:https://www.ifbbpro.com/competition/2025-bahamas-pro-qualifier/
LOCATION:Nassau\, Nassau\, Bahamas
CATEGORIES:NPC Worldwide Pro Qualifier
ATTACH;FMTTYPE=image/jpeg:https://www.ifbbpro.com/wp-content/uploads/2025/01/2025bahamasPQ_110825.jpg
ORGANIZER;CN="Serge Saric (CGP)":MAILTO:sergesaric@gmail.com
END:VEVENT
BEGIN:VEVENT
DTSTART;VALUE=DATE:20251108
DTEND;VALUE=DATE:20251109
DTSTAMP:20260420T022051
CREATED:20250130T150543Z
LAST-MODIFIED:20250131T233605Z
UID:17737-1762560000-1762646399@www.ifbbpro.com
SUMMARY:2025 Romania Muscle Fest Pro/Am Pro Qualifier
DESCRIPTION:
URL:https://www.ifbbpro.com/competition/2025-romania-muscle-fest-pro-am-pro-qualifier/
LOCATION:Bucharest\, Bucharest\, Romania
CATEGORIES:NPC Worldwide Pro Qualifier
ATTACH;FMTTYPE=image/jpeg:https://www.ifbbpro.com/wp-content/uploads/2025/01/2025romaniaPQ_110825.jpg
ORGANIZER;CN="Wings of Strength | Alina Popa 2":MAILTO:details@wingsofstrength.net
END:VEVENT
BEGIN:VEVENT
DTSTART;VALUE=DATE:20251108
DTEND;VALUE=DATE:20251109
DTSTAMP:20260420T022051
CREATED:20250805T001825Z
LAST-MODIFIED:20250920T222712Z
UID:20092-1762560000-1762646399@www.ifbbpro.com
SUMMARY:2025 Tsunami Nutrition Natural Pro Qualifier
DESCRIPTION:
URL:https://www.ifbbpro.com/competition/2025-tsunami-nutrition-natural-pro-qualifier/
LOCATION:Marseille\, Marseille\, France
CATEGORIES:NPC Worldwide Pro Qualifier
ATTACH;FMTTYPE=image/jpeg:https://www.ifbbpro.com/wp-content/uploads/2025/08/2025franceNATPQ_110825.jpg
ORGANIZER;CN="APDF France":MAILTO:ronhache@unitz.ca
END:VEVENT
BEGIN:VEVENT
DTSTART;VALUE=DATE:20251108
DTEND;VALUE=DATE:20251110
DTSTAMP:20260420T022051
CREATED:20250814T164718Z
LAST-MODIFIED:20250814T164719Z
UID:20223-1762560000-1762732799@www.ifbbpro.com
SUMMARY:2025 Mexican National Championships Pro Qualifier
DESCRIPTION:
URL:https://www.ifbbpro.com/competition/2025-mexican-national-championships-pro-qualifier/
LOCATION:Puebla\, Puebla\, Mexico
CATEGORIES:NPC Worldwide Pro Qualifier
ATTACH;FMTTYPE=image/jpeg:https://www.ifbbpro.com/wp-content/uploads/2025/08/2025mexicoRPQ_110825.jpg
ORGANIZER;CN="M&M Promotions (Mexico)":MAILTO:Info@npcmexixannationals.com
END:VEVENT
BEGIN:VEVENT
DTSTART;VALUE=DATE:20251115
DTEND;VALUE=DATE:20251116
DTSTAMP:20260420T022051
CREATED:20250923T121441Z
LAST-MODIFIED:20250923T121442Z
UID:20745-1763164800-1763251199@www.ifbbpro.com
SUMMARY:2025 Denmark Battle of the North Pro Qualifier
DESCRIPTION:
URL:https://www.ifbbpro.com/competition/2025-denmark-battle-of-the-north-pro-qualifier/
LOCATION:Copenhagen\, Copenhagen\, Denmark
CATEGORIES:NPC Worldwide Pro Qualifier
ATTACH;FMTTYPE=image/jpeg:https://www.ifbbpro.com/wp-content/uploads/2025/09/2025denmarkPQ_111525.jpg
ORGANIZER;CN="2 Bros Pros":MAILTO:info@2bpevents.com
END:VEVENT
BEGIN:VEVENT
DTSTART;VALUE=DATE:20251115
DTEND;VALUE=DATE:20251117
DTSTAMP:20260420T022051
CREATED:20250112T230642Z
LAST-MODIFIED:20250112T230642Z
UID:17287-1763164800-1763337599@www.ifbbpro.com
SUMMARY:2025 Euro Masters Championships Italy Pro Qualifier
DESCRIPTION:
URL:https://www.ifbbpro.com/competition/2025-euro-masters-championships-italy-pro-qualifier/
LOCATION:Milan\, Milan\, Italy
CATEGORIES:NPC Worldwide Pro Qualifier
ATTACH;FMTTYPE=image/jpeg:https://www.ifbbpro.com/wp-content/uploads/2025/01/2025italyPQ_111525.jpg
ORGANIZER;CN="Barbara Bagnuolo":MAILTO:bb.ifbbproitaly@gmail.com
END:VEVENT
BEGIN:VEVENT
DTSTART;VALUE=DATE:20251116
DTEND;VALUE=DATE:20251117
DTSTAMP:20260420T022051
CREATED:20251021T130833Z
LAST-MODIFIED:20251021T130834Z
UID:21078-1763251200-1763337599@www.ifbbpro.com
SUMMARY:2025 Gomeisa Ultimate Battle Colombia Pro Qualifier
DESCRIPTION:
URL:https://www.ifbbpro.com/competition/2025-gomeisa-ultimate-battle-colombia-pro-qualifier/
LOCATION:Bogota\, Bogota\, Colombia
CATEGORIES:NPC Worldwide Pro Qualifier
ATTACH;FMTTYPE=image/jpeg:https://www.ifbbpro.com/wp-content/uploads/2025/10/2025colombiaPQ_161125.jpg
ORGANIZER;CN="Maz Ali":MAILTO:bodyworx2008@hotmail.com
END:VEVENT
BEGIN:VEVENT
DTSTART;VALUE=DATE:20251121
DTEND;VALUE=DATE:20251123
DTSTAMP:20260420T022051
CREATED:20251122T124104Z
LAST-MODIFIED:20251122T124105Z
UID:21354-1763683200-1763855999@www.ifbbpro.com
SUMMARY:2025 Ben Weider Naturals Pro Qualifier
DESCRIPTION:
URL:https://www.ifbbpro.com/competition/2025-ben-weider-naturals-pro-qualifier/
LOCATION:Alexandria\, Alexandria\, VA\, United States
CATEGORIES:NPC Worldwide Pro Qualifier
ATTACH;FMTTYPE=image/jpeg:https://www.ifbbpro.com/wp-content/uploads/2024/12/2025bwnatPRO_112125.jpg
ORGANIZER;CN="Gary Udit & Ron Hache":MAILTO:gary@garyudit.com
END:VEVENT
BEGIN:VEVENT
DTSTART;VALUE=DATE:20251121
DTEND;VALUE=DATE:20251124
DTSTAMP:20260420T022051
CREATED:20250617T191752Z
LAST-MODIFIED:20250822T191219Z
UID:19591-1763683200-1763942399@www.ifbbpro.com
SUMMARY:2025 Amateur Olympia India Pro Qualifier
DESCRIPTION:
URL:https://www.ifbbpro.com/competition/2025-amateur-olympia-india-pro-qualifier/
LOCATION:Mumbai\, Mumbai\, India
CATEGORIES:NPC Worldwide Pro Qualifier
ATTACH;FMTTYPE=image/jpeg:https://www.ifbbpro.com/wp-content/uploads/2025/06/2025indiaPQ_112125.jpg
ORGANIZER;CN="Sheru Aangrish":MAILTO:sheru@sheruclassic.com
END:VEVENT
BEGIN:VEVENT
DTSTART;VALUE=DATE:20251122
DTEND;VALUE=DATE:20251123
DTSTAMP:20260420T022051
CREATED:20241226T173629Z
LAST-MODIFIED:20250920T222616Z
UID:16455-1763769600-1763855999@www.ifbbpro.com
SUMMARY:2025 EU Nutrition Natural Pro Qualifier
DESCRIPTION:
URL:https://www.ifbbpro.com/competition/2025-eu-nutrition-pro-qualifier/
LOCATION:Lisbon\, Lisbon\, Portugal
CATEGORIES:NPC Worldwide Pro Qualifier
ATTACH;FMTTYPE=image/jpeg:https://www.ifbbpro.com/wp-content/uploads/2024/12/2025portugalPQPRO_112225.jpg
ORGANIZER;CN="Mr. Big Evolution":MAILTO:ifbbproportugal@gmail.com
END:VEVENT
BEGIN:VEVENT
DTSTART;VALUE=DATE:20251122
DTEND;VALUE=DATE:20251123
DTSTAMP:20260420T022051
CREATED:20250315T163955Z
LAST-MODIFIED:20250315T163955Z
UID:18439-1763769600-1763855999@www.ifbbpro.com
SUMMARY:2025 Dennis James Classic Germany Pro Qualifier
DESCRIPTION:
URL:https://www.ifbbpro.com/competition/2025-dennis-james-classic-germany-pro-qualifier/
LOCATION:Offenbach\, Offenbach\, Germany
CATEGORIES:NPC Worldwide Pro Qualifier
ATTACH;FMTTYPE=image/jpeg:https://www.ifbbpro.com/wp-content/uploads/2025/03/2025germanyPQ_112225.jpg
ORGANIZER;CN="Dennis James":MAILTO:pro_dennisjames@yahoo.com
END:VEVENT
BEGIN:VEVENT
DTSTART;VALUE=DATE:20251122
DTEND;VALUE=DATE:20251124
DTSTAMP:20260420T022051
CREATED:20241228T153652Z
LAST-MODIFIED:20250328T124027Z
UID:16628-1763769600-1763942399@www.ifbbpro.com
SUMMARY:2025 Olympia Amateur Japan Pro Qualifier
DESCRIPTION:
URL:https://www.ifbbpro.com/competition/2025-olympia-amateur-japan-pro-qualifier/
LOCATION:Tokyo\, Tokyo\, Japan
CATEGORIES:NPC Worldwide Pro Qualifier
ATTACH;FMTTYPE=image/jpeg:https://www.ifbbpro.com/wp-content/uploads/2024/12/2025japanPQv2_112325.jpg
ORGANIZER;CN="Takayuki Shoji (NPC Worldwide)":MAILTO:info@ifbbpro-japan.com
END:VEVENT
BEGIN:VEVENT
DTSTART;VALUE=DATE:20251128
DTEND;VALUE=DATE:20251201
DTSTAMP:20260420T022051
CREATED:20250531T094846Z
LAST-MODIFIED:20251017T015116Z
UID:19364-1764288000-1764547199@www.ifbbpro.com
SUMMARY:2025 Morocco Pro Qualifier
DESCRIPTION:
URL:https://www.ifbbpro.com/competition/2025-morocco-pro-qualifier-2/
LOCATION:Marrakesh\, Marrakesh\, Morocco
CATEGORIES:NPC Worldwide Pro Qualifier
ATTACH;FMTTYPE=image/jpeg:https://www.ifbbpro.com/wp-content/uploads/2025/05/2025moroccoPQ_112825.jpg
ORGANIZER;CN="Mo Barakat | Morad Zahir | Mehdi Abbad":MAILTO:mobarakat1026@gmail.com
END:VEVENT
BEGIN:VEVENT
DTSTART;VALUE=DATE:20251129
DTEND;VALUE=DATE:20251201
DTSTAMP:20260420T022051
CREATED:20250731T125308Z
LAST-MODIFIED:20250731T125308Z
UID:19950-1764374400-1764547199@www.ifbbpro.com
SUMMARY:2025 Bigman Spain Weekend Show Pro Qualifier
DESCRIPTION:
URL:https://www.ifbbpro.com/competition/2025-bigman-spain-weekend-show-pro-qualifier/
LOCATION:Alicante\, Alicante\, Spain
CATEGORIES:NPC Worldwide Pro Qualifier
ATTACH;FMTTYPE=image/jpeg:https://www.ifbbpro.com/wp-content/uploads/2025/07/2025bigmanPQPRO_112925.jpg
ORGANIZER;CN="Emilio Martinez (Bigman)":MAILTO:emilio@emiliomartinez.com
END:VEVENT
BEGIN:VEVENT
DTSTART;VALUE=DATE:20251130
DTEND;VALUE=DATE:20251201
DTSTAMP:20260420T022051
CREATED:20251028T170921Z
LAST-MODIFIED:20251028T171122Z
UID:21165-1764460800-1764547199@www.ifbbpro.com
SUMMARY:2025 Huanji China Natural Pro Qualifier
DESCRIPTION:
URL:https://www.ifbbpro.com/competition/2025-huanji-china-natural-pro-qualifier/
LOCATION:Hangzhou\, Hangzhou\, China
CATEGORIES:NPC Worldwide Pro Qualifier
ATTACH;FMTTYPE=image/jpeg:https://www.ifbbpro.com/wp-content/uploads/2025/10/2025chinaRPQ_112925.jpg
ORGANIZER;CN="George Zhang":MAILTO:huanjichinapro@163.com
END:VEVENT
BEGIN:VEVENT
DTSTART;VALUE=DATE:20251130
DTEND;VALUE=DATE:20251201
DTSTAMP:20260420T022051
CREATED:20250824T150349Z
LAST-MODIFIED:20250824T150349Z
UID:20346-1764460800-1764547199@www.ifbbpro.com
SUMMARY:2025 Thailand Pro Qualifier
DESCRIPTION:
URL:https://www.ifbbpro.com/competition/2025-thailand-pro-qualifier/
LOCATION:Bangkok\, Bangkok\, Thailand
CATEGORIES:NPC Worldwide Pro Qualifier
ATTACH;FMTTYPE=image/jpeg:https://www.ifbbpro.com/wp-content/uploads/2025/08/2025thailandPQ_113025.jpg
ORGANIZER;CN="Moe Elmoussawi (Thailand)":MAILTO:ifbbproleaguethailand@gmail.com
END:VEVENT
END:VCALENDAR