BEGIN:VCALENDAR
VERSION:2.0
PRODID:-//IFBB Pro - ECPv6.15.20//NONSGML v1.0//EN
CALSCALE:GREGORIAN
METHOD:PUBLISH
X-WR-CALNAME:IFBB Pro
X-ORIGINAL-URL:https://www.ifbbpro.com
X-WR-CALDESC:Events for IFBB Pro
REFRESH-INTERVAL;VALUE=DURATION:PT1H
X-Robots-Tag:noindex
X-PUBLISHED-TTL:PT1H
BEGIN:VTIMEZONE
TZID:America/Toronto
BEGIN:DAYLIGHT
TZOFFSETFROM:-0500
TZOFFSETTO:-0400
TZNAME:EDT
DTSTART:20250309T070000
END:DAYLIGHT
BEGIN:STANDARD
TZOFFSETFROM:-0400
TZOFFSETTO:-0500
TZNAME:EST
DTSTART:20251102T060000
END:STANDARD
BEGIN:DAYLIGHT
TZOFFSETFROM:-0500
TZOFFSETTO:-0400
TZNAME:EDT
DTSTART:20260308T070000
END:DAYLIGHT
BEGIN:STANDARD
TZOFFSETFROM:-0400
TZOFFSETTO:-0500
TZNAME:EST
DTSTART:20261101T060000
END:STANDARD
BEGIN:DAYLIGHT
TZOFFSETFROM:-0500
TZOFFSETTO:-0400
TZNAME:EDT
DTSTART:20270314T070000
END:DAYLIGHT
BEGIN:STANDARD
TZOFFSETFROM:-0400
TZOFFSETTO:-0500
TZNAME:EST
DTSTART:20271107T060000
END:STANDARD
END:VTIMEZONE
BEGIN:VEVENT
DTSTART;VALUE=DATE:20261030
DTEND;VALUE=DATE:20261102
DTSTAMP:20260421T101113
CREATED:20260307T203933Z
LAST-MODIFIED:20260308T175040Z
UID:23184-1793318400-1793577599@www.ifbbpro.com
SUMMARY:2026 Euronaturals Pro
DESCRIPTION:Men’s Bodybuilding\nClassic Physique\nMen’s Physique\nFigure\nBikini\nWomen’s Physique\nWellness\nFit Model
URL:https://www.ifbbpro.com/competition/2026-euronaturals-pro/
LOCATION:Madrid\, Madrid\, Spain
CATEGORIES:IFBB Pro League PRO
ATTACH;FMTTYPE=image/jpeg:https://www.ifbbpro.com/wp-content/uploads/2026/03/2026spainNATPRO_110126.jpg
ORGANIZER;CN="Gabriel Opare (Euro Naturals)":MAILTO:info@npceuronaturals.com
END:VEVENT
BEGIN:VEVENT
DTSTART;VALUE=DATE:20261030
DTEND;VALUE=DATE:20261102
DTSTAMP:20260421T101113
CREATED:20260311T192357Z
LAST-MODIFIED:20260325T191712Z
UID:23378-1793318400-1793577599@www.ifbbpro.com
SUMMARY:2026 Euronaturals Spain Pro Qualifier
DESCRIPTION:
URL:https://www.ifbbpro.com/competition/2026-euronaturals-spain-pro-qualifier/
LOCATION:Madrid\, Madrid\, Spain
CATEGORIES:NPC Worldwide Pro Qualifier
ATTACH;FMTTYPE=image/jpeg:https://www.ifbbpro.com/wp-content/uploads/2026/03/2026euronaturalsPQ_103026.jpg
ORGANIZER;CN="Gabriel Opare (Euro Naturals)":MAILTO:info@npceuronaturals.com
END:VEVENT
BEGIN:VEVENT
DTSTART;VALUE=DATE:20261031
DTEND;VALUE=DATE:20261101
DTSTAMP:20260421T101113
CREATED:20260307T183751Z
LAST-MODIFIED:20260307T183952Z
UID:23176-1793404800-1793491199@www.ifbbpro.com
SUMMARY:2026 All South Championships
DESCRIPTION:Wellness + Masters Wellness 35/40/50\nFit Model + Masters Fit Model 35/40/50
URL:https://www.ifbbpro.com/competition/2026-all-south-championships/
LOCATION:Orlando\, Orlando\, Florida
CATEGORIES:IFBB Pro League PRO
ATTACH;FMTTYPE=image/jpeg:https://www.ifbbpro.com/wp-content/uploads/2026/03/2026allsouthPRO_103126.jpg
ORGANIZER;CN="Shannon Dey (All South)":MAILTO:ceo@bombshellfitness.com
END:VEVENT
BEGIN:VEVENT
DTSTART;VALUE=DATE:20261031
DTEND;VALUE=DATE:20261101
DTSTAMP:20260421T101113
CREATED:20260415T164213Z
LAST-MODIFIED:20260415T164213Z
UID:23682-1793404800-1793491199@www.ifbbpro.com
SUMMARY:2026 Kentucky Natural Pro
DESCRIPTION:Bikini
URL:https://www.ifbbpro.com/competition/2026-kentucky-natural-pro/
LOCATION:Covington\, Covington\, KY\, United States
CATEGORIES:IFBB Pro League PRO
ATTACH;FMTTYPE=image/jpeg:https://www.ifbbpro.com/wp-content/uploads/2026/04/2026kentuckNATPRO_103126.jpg
ORGANIZER;CN="Gary Udit%2C Schuerman Fitness%2C Rick Bayardi":MAILTO:info@garyudit.com
END:VEVENT
BEGIN:VEVENT
DTSTART;VALUE=DATE:20261031
DTEND;VALUE=DATE:20261102
DTSTAMP:20260421T101113
CREATED:20260417T004149Z
LAST-MODIFIED:20260417T004149Z
UID:23717-1793404800-1793577599@www.ifbbpro.com
SUMMARY:2026 Everest Muscle Stars Pro
DESCRIPTION:Men’s Bodybuilding\nMasters Men’s Bodybuilding 40
URL:https://www.ifbbpro.com/competition/2026-everest-muscle-stars-pro/
LOCATION:Warsaw\, Warsaw\, Poland
CATEGORIES:IFBB Pro League PRO
ATTACH;FMTTYPE=image/jpeg:https://www.ifbbpro.com/wp-content/uploads/2026/04/2026polandPRO_103126.jpg
ORGANIZER;CN="Robert Piotrkowicz":MAILTO:office@ifbbpro.pl
END:VEVENT
END:VCALENDAR