BEGIN:VCALENDAR
VERSION:2.0
PRODID:-//IFBB Pro - ECPv6.15.20//NONSGML v1.0//EN
CALSCALE:GREGORIAN
METHOD:PUBLISH
X-WR-CALNAME:IFBB Pro
X-ORIGINAL-URL:https://www.ifbbpro.com
X-WR-CALDESC:Events for IFBB Pro
REFRESH-INTERVAL;VALUE=DURATION:PT1H
X-Robots-Tag:noindex
X-PUBLISHED-TTL:PT1H
BEGIN:VTIMEZONE
TZID:America/Toronto
BEGIN:DAYLIGHT
TZOFFSETFROM:-0500
TZOFFSETTO:-0400
TZNAME:EDT
DTSTART:20250309T070000
END:DAYLIGHT
BEGIN:STANDARD
TZOFFSETFROM:-0400
TZOFFSETTO:-0500
TZNAME:EST
DTSTART:20251102T060000
END:STANDARD
BEGIN:DAYLIGHT
TZOFFSETFROM:-0500
TZOFFSETTO:-0400
TZNAME:EDT
DTSTART:20260308T070000
END:DAYLIGHT
BEGIN:STANDARD
TZOFFSETFROM:-0400
TZOFFSETTO:-0500
TZNAME:EST
DTSTART:20261101T060000
END:STANDARD
BEGIN:DAYLIGHT
TZOFFSETFROM:-0500
TZOFFSETTO:-0400
TZNAME:EDT
DTSTART:20270314T070000
END:DAYLIGHT
BEGIN:STANDARD
TZOFFSETFROM:-0400
TZOFFSETTO:-0500
TZNAME:EST
DTSTART:20271107T060000
END:STANDARD
END:VTIMEZONE
BEGIN:VEVENT
DTSTART;VALUE=DATE:20261003
DTEND;VALUE=DATE:20261004
DTSTAMP:20260421T115737
CREATED:20260307T173235Z
LAST-MODIFIED:20260308T004652Z
UID:23139-1790985600-1791071999@www.ifbbpro.com
SUMMARY:2026 Tsunami Nutrition Toulouse Championship
DESCRIPTION:Classic Physique\nMen’s Physique\nWellness
URL:https://www.ifbbpro.com/competition/2026-tsunami-nutrition-toulouse-championship/
LOCATION:Toulouse-Labege\, Toulouse-Labege\, France
CATEGORIES:IFBB Pro League PRO
ATTACH;FMTTYPE=image/jpeg:https://www.ifbbpro.com/wp-content/uploads/2026/03/2026francePRO_100326.jpg
ORGANIZER;CN="Ron Hache (France)":MAILTO:ronhache@unitz.ca
END:VEVENT
BEGIN:VEVENT
DTSTART;VALUE=DATE:20261003
DTEND;VALUE=DATE:20261004
DTSTAMP:20260421T115737
CREATED:20260311T190437Z
LAST-MODIFIED:20260311T190614Z
UID:23362-1790985600-1791071999@www.ifbbpro.com
SUMMARY:2026 Toulouse Pro Qualifier
DESCRIPTION:
URL:https://www.ifbbpro.com/competition/2026-toulouse-pro-qualifier/
LOCATION:Toulouse-Labege\, Toulouse-Labege\, France
CATEGORIES:NPC Worldwide Pro Qualifier
ATTACH;FMTTYPE=image/jpeg:https://www.ifbbpro.com/wp-content/uploads/2026/03/2026francePQ_100326.jpg
ORGANIZER;CN="Ron Hache (France)":MAILTO:ronhache@unitz.ca
END:VEVENT
BEGIN:VEVENT
DTSTART;VALUE=DATE:20261003
DTEND;VALUE=DATE:20261004
DTSTAMP:20260421T115737
CREATED:20260311T190919Z
LAST-MODIFIED:20260317T180406Z
UID:23365-1790985600-1791071999@www.ifbbpro.com
SUMMARY:2026 Canadian National Pro Qualifier
DESCRIPTION:
URL:https://www.ifbbpro.com/competition/2026-canadian-national-pro-qualifier/
LOCATION:Toronto\, Toronto\, Ontario\, Canada
CATEGORIES:NPC Worldwide Pro Qualifier
ATTACH;FMTTYPE=image/jpeg:https://www.ifbbpro.com/wp-content/uploads/2026/03/2026canadaPQ_100326.jpg
ORGANIZER;CN="Ron Hache":MAILTO:ronhache@unitz.ca
END:VEVENT
BEGIN:VEVENT
DTSTART;VALUE=DATE:20261003
DTEND;VALUE=DATE:20261004
DTSTAMP:20260421T115737
CREATED:20260323T164322Z
LAST-MODIFIED:20260323T164324Z
UID:23459-1790985600-1791071999@www.ifbbpro.com
SUMMARY:2026 Southern Muscle Showdown Pro
DESCRIPTION:Classic Physique Open & Masters 40\nBikini Open & Masters 40/50/60
URL:https://www.ifbbpro.com/competition/2026-southern-muscle-showdown-pro/
LOCATION:Dalton\, Dalton\, GA\, United States
CATEGORIES:IFBB Pro League PRO
ATTACH;FMTTYPE=image/jpeg:https://www.ifbbpro.com/wp-content/uploads/2026/03/2026southernmusclePRO_100326.jpg
ORGANIZER;CN="Steve Payne":MAILTO:steve@trainwithpayne.com
END:VEVENT
BEGIN:VEVENT
DTSTART;VALUE=DATE:20261003
DTEND;VALUE=DATE:20261004
DTSTAMP:20260421T115737
CREATED:20260417T150556Z
LAST-MODIFIED:20260417T150827Z
UID:23728-1790985600-1791071999@www.ifbbpro.com
SUMMARY:2026 Ace of Stage Pro
DESCRIPTION:Men’s Physique Open + Masters 40/50\nFit Model
URL:https://www.ifbbpro.com/competition/2026-ace-of-stage-pro/
LOCATION:Las Vegas\, Las Vegas\, NV\, United States
CATEGORIES:IFBB Pro League PRO
ATTACH;FMTTYPE=image/jpeg:https://www.ifbbpro.com/wp-content/uploads/2026/04/2026aceofstagePRO_100326.jpg
END:VEVENT
BEGIN:VEVENT
DTSTART;VALUE=DATE:20261003
DTEND;VALUE=DATE:20261005
DTSTAMP:20260421T115737
CREATED:20260417T003849Z
LAST-MODIFIED:20260417T003850Z
UID:23713-1790985600-1791158399@www.ifbbpro.com
SUMMARY:2026 Everest Muscle Legends Pro
DESCRIPTION:Men’s Bodybuilding\nMasters Men’s Bodybuilding 40
URL:https://www.ifbbpro.com/competition/2026-everest-muscle-legends-pro/
LOCATION:Warsaw\, Warsaw\, Poland
CATEGORIES:IFBB Pro League PRO
ATTACH;FMTTYPE=image/jpeg:https://www.ifbbpro.com/wp-content/uploads/2026/04/2026polandPRO_100326.jpg
ORGANIZER;CN="Robert Piotrkowicz":MAILTO:office@ifbbpro.pl
END:VEVENT
END:VCALENDAR