BEGIN:VCALENDAR
VERSION:2.0
PRODID:-//IFBB Pro - ECPv6.15.20//NONSGML v1.0//EN
CALSCALE:GREGORIAN
METHOD:PUBLISH
X-WR-CALNAME:IFBB Pro
X-ORIGINAL-URL:https://www.ifbbpro.com
X-WR-CALDESC:Events for IFBB Pro
REFRESH-INTERVAL;VALUE=DURATION:PT1H
X-Robots-Tag:noindex
X-PUBLISHED-TTL:PT1H
BEGIN:VTIMEZONE
TZID:America/Toronto
BEGIN:DAYLIGHT
TZOFFSETFROM:-0500
TZOFFSETTO:-0400
TZNAME:EDT
DTSTART:20250309T070000
END:DAYLIGHT
BEGIN:STANDARD
TZOFFSETFROM:-0400
TZOFFSETTO:-0500
TZNAME:EST
DTSTART:20251102T060000
END:STANDARD
BEGIN:DAYLIGHT
TZOFFSETFROM:-0500
TZOFFSETTO:-0400
TZNAME:EDT
DTSTART:20260308T070000
END:DAYLIGHT
BEGIN:STANDARD
TZOFFSETFROM:-0400
TZOFFSETTO:-0500
TZNAME:EST
DTSTART:20261101T060000
END:STANDARD
BEGIN:DAYLIGHT
TZOFFSETFROM:-0500
TZOFFSETTO:-0400
TZNAME:EDT
DTSTART:20270314T070000
END:DAYLIGHT
BEGIN:STANDARD
TZOFFSETFROM:-0400
TZOFFSETTO:-0500
TZNAME:EST
DTSTART:20271107T060000
END:STANDARD
END:VTIMEZONE
BEGIN:VEVENT
DTSTART;VALUE=DATE:20260906
DTEND;VALUE=DATE:20260907
DTSTAMP:20260421T042944
CREATED:20260319T164105Z
LAST-MODIFIED:20260319T164106Z
UID:23425-1788652800-1788739199@www.ifbbpro.com
SUMMARY:2026 Pro Masters World Championships
DESCRIPTION:Men’s Bodybuilding 40/50/60/70/80/90\nMen’s 212 Bodybuilding 40/50/60\nClassic Physique 40/50/60/70\nMen’s Physique 40/50/60/70\nWomen’s Bodybuilding 40/50/60/70\nFitness 40\nFigure 40/50/60\nBikini 40/50/60\nWomen’s Physique 40/50/60\nWellness 40/50\nFit Model 40/50
URL:https://www.ifbbpro.com/competition/2026-pro-masters-world-championships/
LOCATION:Pittsburgh\, Pittsburgh\, Pennsylvania
CATEGORIES:IFBB Pro League PRO
ATTACH;FMTTYPE=image/jpeg:https://www.ifbbpro.com/wp-content/uploads/2026/03/2026promastersworld_090626.jpg
ORGANIZER;CN="Gary Udit":MAILTO:info@garyudit.com
END:VEVENT
END:VCALENDAR